BEGIN:VCALENDAR
VERSION:2.0
PRODID:-//The BoZone - ECPv5.12.0//NONSGML v1.0//EN
CALSCALE:GREGORIAN
METHOD:PUBLISH
X-WR-CALNAME:The BoZone
X-ORIGINAL-URL:https://bozone.com
X-WR-CALDESC:Events for The BoZone
BEGIN:VTIMEZONE
TZID:America/Denver
BEGIN:DAYLIGHT
TZOFFSETFROM:-0700
TZOFFSETTO:-0600
TZNAME:MDT
DTSTART:20260308T090000
END:DAYLIGHT
BEGIN:STANDARD
TZOFFSETFROM:-0600
TZOFFSETTO:-0700
TZNAME:MST
DTSTART:20261101T080000
END:STANDARD
END:VTIMEZONE
BEGIN:VEVENT
DTSTART;TZID=America/Denver:20260404T193000
DTEND;TZID=America/Denver:20260404T193000
DTSTAMP:20260421T092256
CREATED:20260128T223847Z
LAST-MODIFIED:20260128T223847Z
UID:307092-1775331000-1775331000@bozone.com
SUMMARY:Keith Anderson & Life Heads West.
DESCRIPTION:Keith Anderson & Life Heads West.\n\n\nSAT\, APR 4 at 7:30 PM \na local band with all original music of thoughtful lyrics\, complex melodies &\nenticing rhythms done in an americana style\nTickets: All Seats $15.00\nCheck out their sound HERE
URL:https://bozone.com/event/keith-anderson-life-heads-west/
LOCATION:The Ellen Theatre\, 17 W Main\, Bozeman\, MT\, 59715\, United States
CATEGORIES:Music
GEO:45.6794524;-111.037852
X-APPLE-STRUCTURED-LOCATION;VALUE=URI;X-ADDRESS=The Ellen Theatre 17 W Main Bozeman MT 59715 United States;X-APPLE-RADIUS=500;X-TITLE=17 W Main:geo:-111.037852,45.6794524
END:VEVENT
END:VCALENDAR