BEGIN:VCALENDAR
VERSION:2.0
PRODID:-//The BoZone - ECPv5.12.0//NONSGML v1.0//EN
CALSCALE:GREGORIAN
METHOD:PUBLISH
X-WR-CALNAME:The BoZone
X-ORIGINAL-URL:https://bozone.com
X-WR-CALDESC:Events for The BoZone
BEGIN:VTIMEZONE
TZID:America/Denver
BEGIN:DAYLIGHT
TZOFFSETFROM:-0700
TZOFFSETTO:-0600
TZNAME:MDT
DTSTART:20250309T090000
END:DAYLIGHT
BEGIN:STANDARD
TZOFFSETFROM:-0600
TZOFFSETTO:-0700
TZNAME:MST
DTSTART:20251102T080000
END:STANDARD
END:VTIMEZONE
BEGIN:VEVENT
DTSTART;TZID=America/Denver:20250725T173000
DTEND;TZID=America/Denver:20250725T203000
DTSTAMP:20260421T085653
CREATED:20250629T052326Z
LAST-MODIFIED:20250629T052326Z
UID:293371-1753464600-1753475400@bozone.com
SUMMARY:July Art Walk 2025
DESCRIPTION:July 25 @ 5:30 pm – 8:30 pm\nJuly Art Walk 2025\n\n\nJoin us for the 4th Friday Art Walk on July 25th from 5:30 pm to 8:30 pm. More information to come!
URL:https://bozone.com/event/july-art-walk-2025/
LOCATION:Downtown Livingston\, Livingston\, MT\, United States
CATEGORIES:Arts & Theatre,Miscellanea
GEO:40.7862871;-74.3300842
END:VEVENT
END:VCALENDAR