BEGIN:VCALENDAR
VERSION:2.0
PRODID:-//The BoZone - ECPv5.12.0//NONSGML v1.0//EN
CALSCALE:GREGORIAN
METHOD:PUBLISH
X-WR-CALNAME:The BoZone
X-ORIGINAL-URL:https://bozone.com
X-WR-CALDESC:Events for The BoZone
BEGIN:VTIMEZONE
TZID:America/Denver
BEGIN:DAYLIGHT
TZOFFSETFROM:-0700
TZOFFSETTO:-0600
TZNAME:MDT
DTSTART:20250309T090000
END:DAYLIGHT
BEGIN:STANDARD
TZOFFSETFROM:-0600
TZOFFSETTO:-0700
TZNAME:MST
DTSTART:20251102T080000
END:STANDARD
END:VTIMEZONE
BEGIN:VEVENT
DTSTART;TZID=America/Denver:20251119T140000
DTEND;TZID=America/Denver:20251119T170000
DTSTAMP:20260422T115508
CREATED:20251029T165330Z
LAST-MODIFIED:20251029T165330Z
UID:301363-1763560800-1763571600@bozone.com
SUMMARY:Journey of Hope: The Ripple Effects of Women's Economic Empowerment
DESCRIPTION:Central Asia Institute invites you to join us on Wednesday\, November 19\, 2025 at 2:00 pm MST for a special online event\, “Journey of Hope: The Ripple Effects of Women’s Economic Empowerment”\, featuring CAI Executive Director Alice Thomas\, Director of International Programs Anh Pham\, and Board Vice Chair Lorre Jay. \nThis free\, one-hour Zoom webinar offers a behind-the-scenes look at how women across Afghanistan\, Pakistan\, and Tajikistan are using entrepreneurship to build better futures for themselves\, their families\, and their communities. CAI’s leadership will share firsthand accounts of the setbacks\, triumphs\, and remarkable transformations of the women we serve. Don’t miss this unique opportunity to learn how CAI’s women’s empowerment programs are creating ripple effects of change that strengthen entire communities. \nPlease register for the Zoom link here: http://bit.ly/3LezmUe \nLearn more about Central Asia Institute at our website here: https://centralasiainstitute.org/
URL:https://bozone.com/event/journey-of-hope-the-ripple-effects-of-womens-economic-empowerment/
LOCATION:Virtual Event\, Bozeman\, MT\, 59715\, United States
CATEGORIES:Lectures
GEO:46.8796822;-110.3625658
END:VEVENT
END:VCALENDAR