BEGIN:VCALENDAR
VERSION:2.0
PRODID:-//The BoZone - ECPv5.12.0//NONSGML v1.0//EN
CALSCALE:GREGORIAN
METHOD:PUBLISH
X-WR-CALNAME:The BoZone
X-ORIGINAL-URL:https://bozone.com
X-WR-CALDESC:Events for The BoZone
BEGIN:VTIMEZONE
TZID:America/Denver
BEGIN:DAYLIGHT
TZOFFSETFROM:-0700
TZOFFSETTO:-0600
TZNAME:MDT
DTSTART:20260308T090000
END:DAYLIGHT
BEGIN:STANDARD
TZOFFSETFROM:-0600
TZOFFSETTO:-0700
TZNAME:MST
DTSTART:20261101T080000
END:STANDARD
END:VTIMEZONE
BEGIN:VEVENT
DTSTART;TZID=America/Denver:20260123T173000
DTEND;TZID=America/Denver:20260123T173000
DTSTAMP:20260422T101412
CREATED:20251230T011833Z
LAST-MODIFIED:20251230T011833Z
UID:305001-1769189400-1769189400@bozone.com
SUMMARY:Jon DeGroot & Lena
DESCRIPTION:Jon DeGroot & Lena\nFriday\, January 23\, 2026⋅5:30 – 7:30pm\n\n\n\n\n\n\n\n\n\n\n\nWillie’s Distillery
URL:https://bozone.com/event/jon-degroot-lena/
LOCATION:Willies Distillery – Ennis\, 312 E Main Street\, Ennis\, MT\, 59729\, United States
CATEGORIES:Music
GEO:45.3490537;-111.7259957
X-APPLE-STRUCTURED-LOCATION;VALUE=URI;X-ADDRESS=Willies Distillery – Ennis 312 E Main Street Ennis MT 59729 United States;X-APPLE-RADIUS=500;X-TITLE=312 E Main Street:geo:-111.7259957,45.3490537
END:VEVENT
END:VCALENDAR