BEGIN:VCALENDAR
VERSION:2.0
PRODID:-//The BoZone - ECPv5.12.0//NONSGML v1.0//EN
CALSCALE:GREGORIAN
METHOD:PUBLISH
X-WR-CALNAME:The BoZone
X-ORIGINAL-URL:https://bozone.com
X-WR-CALDESC:Events for The BoZone
BEGIN:VTIMEZONE
TZID:America/Denver
BEGIN:DAYLIGHT
TZOFFSETFROM:-0700
TZOFFSETTO:-0600
TZNAME:MDT
DTSTART:20250309T090000
END:DAYLIGHT
BEGIN:STANDARD
TZOFFSETFROM:-0600
TZOFFSETTO:-0700
TZNAME:MST
DTSTART:20251102T080000
END:STANDARD
END:VTIMEZONE
BEGIN:VEVENT
DTSTART;TZID=America/Denver:20250927T190000
DTEND;TZID=America/Denver:20250927T190000
DTSTAMP:20260424T012910
CREATED:20250824T003219Z
LAST-MODIFIED:20250824T003219Z
UID:295989-1758999600-1758999600@bozone.com
SUMMARY:Johnny Dango (TX Country Trio)
DESCRIPTION:Johnny Dango (TX Country Trio) www.johnnydango.com\nA country legend in the making\, Johnny Dango and his Austin\, TX trio are taking Montana by storm! He has been touring the West overtime and in overdrive and is leaving his mark on the country world. His lyrics and charm match his southern wit to create an experience you won’t soon forget! We are thrilled to present Johnny Dango and his Texas Trio at The Jump this Saturday from 7-10 PM!
URL:https://bozone.com/event/johnny-dango-tx-country-trio/
LOCATION:The Jump\, 75770 Gallatin Rd\, Gallatin Gateway\, MT\, 59730\, United States
CATEGORIES:Music
GEO:45.58333;-111.1969895
X-APPLE-STRUCTURED-LOCATION;VALUE=URI;X-ADDRESS=The Jump 75770 Gallatin Rd Gallatin Gateway MT 59730 United States;X-APPLE-RADIUS=500;X-TITLE=75770 Gallatin Rd:geo:-111.1969895,45.58333
END:VEVENT
END:VCALENDAR