BEGIN:VCALENDAR
VERSION:2.0
PRODID:-//The BoZone - ECPv5.12.0//NONSGML v1.0//EN
CALSCALE:GREGORIAN
METHOD:PUBLISH
X-WR-CALNAME:The BoZone
X-ORIGINAL-URL:https://bozone.com
X-WR-CALDESC:Events for The BoZone
BEGIN:VTIMEZONE
TZID:America/Denver
BEGIN:DAYLIGHT
TZOFFSETFROM:-0700
TZOFFSETTO:-0600
TZNAME:MDT
DTSTART:20260308T090000
END:DAYLIGHT
BEGIN:STANDARD
TZOFFSETFROM:-0600
TZOFFSETTO:-0700
TZNAME:MST
DTSTART:20261101T080000
END:STANDARD
END:VTIMEZONE
BEGIN:VEVENT
DTSTART;TZID=America/Denver:20260512T190000
DTEND;TZID=America/Denver:20260512T190000
DTSTAMP:20260421T121742
CREATED:20260117T223328Z
LAST-MODIFIED:20260117T223328Z
UID:305569-1778612400-1778612400@bozone.com
SUMMARY:John Butler with Band
DESCRIPTION:Logjam Presents is pleased to welcome John Butler with Band for a live in concert performance at The ELM on Tuesday\, May 12\, 2026.
URL:https://bozone.com/event/john-butler-with-band/
LOCATION:The Elm\, MT\, United States
CATEGORIES:Music
GEO:45.6847558;-111.0457564
END:VEVENT
END:VCALENDAR