BEGIN:VCALENDAR
VERSION:2.0
PRODID:-//The BoZone - ECPv5.12.0//NONSGML v1.0//EN
CALSCALE:GREGORIAN
METHOD:PUBLISH
X-WR-CALNAME:The BoZone
X-ORIGINAL-URL:https://bozone.com
X-WR-CALDESC:Events for The BoZone
BEGIN:VTIMEZONE
TZID:America/Denver
BEGIN:DAYLIGHT
TZOFFSETFROM:-0700
TZOFFSETTO:-0600
TZNAME:MDT
DTSTART:20260308T090000
END:DAYLIGHT
BEGIN:STANDARD
TZOFFSETFROM:-0600
TZOFFSETTO:-0700
TZNAME:MST
DTSTART:20261101T080000
END:STANDARD
END:VTIMEZONE
BEGIN:VEVENT
DTSTART;TZID=America/Denver:20260418T133000
DTEND;TZID=America/Denver:20260418T133000
DTSTAMP:20260420T091206
CREATED:20260412T025125Z
LAST-MODIFIED:20260412T025125Z
UID:315731-1776519000-1776519000@bozone.com
SUMMARY:John and Connie Onstad: Life at the Gallatin County Jail
DESCRIPTION:The Onstad family was the last Sheriff ’s family to reside at the Gallatin County Jail (now the Gallatin History Museum)\, and they will share memories\, stories\, and thoughts related to their work and life in the building. Refreshments and a museum open house will follow this free presentation.
URL:https://bozone.com/event/john-and-connie-onstad-life-at-the-gallatin-county-jail/
LOCATION:Gallatin History Museum\, 317 W Main\, Bozeman\, United States
CATEGORIES:Miscellanea
GEO:45.679651;-111.0422344
X-APPLE-STRUCTURED-LOCATION;VALUE=URI;X-ADDRESS=Gallatin History Museum 317 W Main Bozeman United States;X-APPLE-RADIUS=500;X-TITLE=317 W Main:geo:-111.0422344,45.679651
END:VEVENT
END:VCALENDAR