BEGIN:VCALENDAR
VERSION:2.0
PRODID:-//The BoZone - ECPv5.12.0//NONSGML v1.0//EN
CALSCALE:GREGORIAN
METHOD:PUBLISH
X-WR-CALNAME:The BoZone
X-ORIGINAL-URL:https://bozone.com
X-WR-CALDESC:Events for The BoZone
BEGIN:VTIMEZONE
TZID:America/Denver
BEGIN:DAYLIGHT
TZOFFSETFROM:-0700
TZOFFSETTO:-0600
TZNAME:MDT
DTSTART:20260308T090000
END:DAYLIGHT
BEGIN:STANDARD
TZOFFSETFROM:-0600
TZOFFSETTO:-0700
TZNAME:MST
DTSTART:20261101T080000
END:STANDARD
END:VTIMEZONE
BEGIN:VEVENT
DTSTART;TZID=America/Denver:20260124T140000
DTEND;TZID=America/Denver:20260124T160000
DTSTAMP:20260422T024030
CREATED:20251228T214113Z
LAST-MODIFIED:20251228T214113Z
UID:304366-1769263200-1769270400@bozone.com
SUMMARY:Jazz in the Library
DESCRIPTION:Jazz in the Library\nSaturday\, January 24: 2:00pm – 4:00pm\n BPL\nAge group:   Teens  Elementary Schoolers  Birth – 5  All Ages  Adults\nevent type:  Arts & Culture\nEnjoy acoustic jazz music from Alex Robilotta and guest artists.
URL:https://bozone.com/event/jazz-in-the-library-3/
LOCATION:Bozeman Public Library\, 626 East Main Street\, Bozeman\, MT\, 59715\, United States
CATEGORIES:Music
GEO:45.6785823;-111.0270991
X-APPLE-STRUCTURED-LOCATION;VALUE=URI;X-ADDRESS=Bozeman Public Library 626 East Main Street Bozeman MT 59715 United States;X-APPLE-RADIUS=500;X-TITLE=626 East Main Street:geo:-111.0270991,45.6785823
END:VEVENT
END:VCALENDAR