BEGIN:VCALENDAR
VERSION:2.0
PRODID:-//The BoZone - ECPv5.12.0//NONSGML v1.0//EN
CALSCALE:GREGORIAN
METHOD:PUBLISH
X-WR-CALNAME:The BoZone
X-ORIGINAL-URL:https://bozone.com
X-WR-CALDESC:Events for The BoZone
BEGIN:VTIMEZONE
TZID:America/Denver
BEGIN:DAYLIGHT
TZOFFSETFROM:-0700
TZOFFSETTO:-0600
TZNAME:MDT
DTSTART:20250309T090000
END:DAYLIGHT
BEGIN:STANDARD
TZOFFSETFROM:-0600
TZOFFSETTO:-0700
TZNAME:MST
DTSTART:20251102T080000
END:STANDARD
END:VTIMEZONE
BEGIN:VEVENT
DTSTART;TZID=America/Denver:20251212T210000
DTEND;TZID=America/Denver:20251212T210000
DTSTAMP:20260422T000657
CREATED:20251126T041139Z
LAST-MODIFIED:20251126T041139Z
UID:302514-1765573200-1765573200@bozone.com
SUMMARY:Jacob Rountree & The Somethings
DESCRIPTION:Jacob Rountree & The Somethings\nIndie Rock\n12/12/25\n09:00 PM\nThe Murray Bar\nhttps://www.jacobrountree.com/\n/jacobrountree/
URL:https://bozone.com/event/jacob-rountree-the-somethings-2/
LOCATION:Murray Bar – Livingston\, 201 W Park St\, Livingston\, United States
CATEGORIES:Music
GEO:45.661755;-110.562305
X-APPLE-STRUCTURED-LOCATION;VALUE=URI;X-ADDRESS=Murray Bar – Livingston 201 W Park St Livingston United States;X-APPLE-RADIUS=500;X-TITLE=201 W Park St:geo:-110.562305,45.661755
END:VEVENT
END:VCALENDAR