BEGIN:VCALENDAR
VERSION:2.0
PRODID:-//The BoZone - ECPv5.12.0//NONSGML v1.0//EN
CALSCALE:GREGORIAN
METHOD:PUBLISH
X-WR-CALNAME:The BoZone
X-ORIGINAL-URL:https://bozone.com
X-WR-CALDESC:Events for The BoZone
BEGIN:VTIMEZONE
TZID:America/Denver
BEGIN:DAYLIGHT
TZOFFSETFROM:-0700
TZOFFSETTO:-0600
TZNAME:MDT
DTSTART:20260308T090000
END:DAYLIGHT
BEGIN:STANDARD
TZOFFSETFROM:-0600
TZOFFSETTO:-0700
TZNAME:MST
DTSTART:20261101T080000
END:STANDARD
END:VTIMEZONE
BEGIN:VEVENT
DTSTART;TZID=America/Denver:20260131T210000
DTEND;TZID=America/Denver:20260131T210000
DTSTAMP:20260421T205727
CREATED:20251229T014425Z
LAST-MODIFIED:20251229T014425Z
UID:304557-1769893200-1769893200@bozone.com
SUMMARY:Jackson Holt & The Highway Patrol
DESCRIPTION:JANUARY 30 & 31\, 2026 \nJackson Holt & The Highway Patrol 9pm – Close\n\nFormed in 2017\, Jackson Holt & The Highway Patrol came together over a shared desire to blend the high lonesome sound of Western music with the deep groove of American rhythm and blues. With roots in tradition and eyes on the horizon\, their music weaves twang\, soul\, and storytelling into a sound that’s both timeless and fresh.
URL:https://bozone.com/event/jackson-holt-the-highway-patrol-3/
LOCATION:Chico Hot Springs Saloon\, 163 Chico Rd\, Pray\, MT 59065\, Pray\, MT\, 59065\, United States
CATEGORIES:Music
GEO:45.3386251;-110.6922233
X-APPLE-STRUCTURED-LOCATION;VALUE=URI;X-ADDRESS=Chico Hot Springs Saloon 163 Chico Rd Pray MT 59065 Pray MT 59065 United States;X-APPLE-RADIUS=500;X-TITLE=163 Chico Rd\, Pray\, MT 59065:geo:-110.6922233,45.3386251
END:VEVENT
END:VCALENDAR