BEGIN:VCALENDAR
VERSION:2.0
PRODID:-//The BoZone - ECPv5.12.0//NONSGML v1.0//EN
CALSCALE:GREGORIAN
METHOD:PUBLISH
X-WR-CALNAME:The BoZone
X-ORIGINAL-URL:https://bozone.com
X-WR-CALDESC:Events for The BoZone
BEGIN:VTIMEZONE
TZID:America/Denver
BEGIN:DAYLIGHT
TZOFFSETFROM:-0700
TZOFFSETTO:-0600
TZNAME:MDT
DTSTART:20250309T090000
END:DAYLIGHT
BEGIN:STANDARD
TZOFFSETFROM:-0600
TZOFFSETTO:-0700
TZNAME:MST
DTSTART:20251102T080000
END:STANDARD
END:VTIMEZONE
BEGIN:VEVENT
DTSTART;TZID=America/Denver:20250719T130000
DTEND;TZID=America/Denver:20250719T130000
DTSTAMP:20260419T111321
CREATED:20250708T010509Z
LAST-MODIFIED:20250708T010509Z
UID:293722-1752930000-1752930000@bozone.com
SUMMARY:Intermediate Stained Glass: Stegosaurus
DESCRIPTION:Create a stained glass stegosaurus suncatcher in this intermediate class. This class covers the copper foil method\, made famous by Lewis Tiffany. Supplies and personal instruction included. Please wear close toed shoes. Beginners are welcome\, but may need additional time to complete project.
URL:https://bozone.com/event/intermediate-stained-glass-stegosaurus/
LOCATION:Studio Wheelhouse\, 10 Evergreen Drive\, Suite B\, Bozeman\, MT\, 59715\, United States
CATEGORIES:Classes
GEO:45.6956768;-111.0351487
X-APPLE-STRUCTURED-LOCATION;VALUE=URI;X-ADDRESS=Studio Wheelhouse 10 Evergreen Drive Suite B Bozeman MT 59715 United States;X-APPLE-RADIUS=500;X-TITLE=10 Evergreen Drive\, Suite B:geo:-111.0351487,45.6956768
END:VEVENT
END:VCALENDAR