BEGIN:VCALENDAR
VERSION:2.0
PRODID:-//The BoZone - ECPv5.12.0//NONSGML v1.0//EN
CALSCALE:GREGORIAN
METHOD:PUBLISH
X-WR-CALNAME:The BoZone
X-ORIGINAL-URL:https://bozone.com
X-WR-CALDESC:Events for The BoZone
BEGIN:VTIMEZONE
TZID:America/Denver
BEGIN:DAYLIGHT
TZOFFSETFROM:-0700
TZOFFSETTO:-0600
TZNAME:MDT
DTSTART:20250309T090000
END:DAYLIGHT
BEGIN:STANDARD
TZOFFSETFROM:-0600
TZOFFSETTO:-0700
TZNAME:MST
DTSTART:20251102T080000
END:STANDARD
END:VTIMEZONE
BEGIN:VEVENT
DTSTART;TZID=America/Denver:20250830T103000
DTEND;TZID=America/Denver:20250830T234500
DTSTAMP:20260420T145000
CREATED:20250521T232956Z
LAST-MODIFIED:20250521T232956Z
UID:289970-1756549800-1756597500@bozone.com
SUMMARY:Inspire Together: Fun in the Sun [(for children 2.5-6) - Reg. Rqd.]
DESCRIPTION:Story and Stations is geared towards children 2.5-6 and is an hour and 15 minutes. The class consists of roughly 15 minutes of interactive instruction through songs\, movement\, and story. The remaining time is used to explore the educational stations and connect with other caregivers and children. Stations may include art\, sensory\, math\, literacy\, and more! Each Story and Stations sessions are themed and occur once a week for 6 weeks. \nOur second session of Story and Stations is themed “Fun in the Sun” and has a focus on water play and exploration. This session starts August 9th and is every Saturday through September 13th. Class is offered at 10:30-11:45am and is located at Glen Lake Rotary Park. You must sign up to participate. Classes fill at 12 children for each time slot. Note: We will not be going in the lake\, we will be using pavilion space.
URL:https://bozone.com/event/inspire-together-fun-in-the-sun-for-children-2-5-6-reg-rqd/2025-08-30/
LOCATION:Glen Lake Rotary Park\, 830 Manley Road\, Bozeman\, MT\, 59715\, United States
CATEGORIES:Miscellanea
GEO:45.7069976;-111.0411683
X-APPLE-STRUCTURED-LOCATION;VALUE=URI;X-ADDRESS=Glen Lake Rotary Park 830 Manley Road Bozeman MT 59715 United States;X-APPLE-RADIUS=500;X-TITLE=830 Manley Road:geo:-111.0411683,45.7069976
END:VEVENT
END:VCALENDAR