BEGIN:VCALENDAR
VERSION:2.0
PRODID:-//The BoZone - ECPv5.12.0//NONSGML v1.0//EN
CALSCALE:GREGORIAN
METHOD:PUBLISH
X-WR-CALNAME:The BoZone
X-ORIGINAL-URL:https://bozone.com
X-WR-CALDESC:Events for The BoZone
BEGIN:VTIMEZONE
TZID:America/Denver
BEGIN:DAYLIGHT
TZOFFSETFROM:-0700
TZOFFSETTO:-0600
TZNAME:MDT
DTSTART:20250309T090000
END:DAYLIGHT
BEGIN:STANDARD
TZOFFSETFROM:-0600
TZOFFSETTO:-0700
TZNAME:MST
DTSTART:20251102T080000
END:STANDARD
END:VTIMEZONE
BEGIN:VEVENT
DTSTART;TZID=America/Denver:20251128T100000
DTEND;TZID=America/Denver:20251128T100000
DTSTAMP:20260423T125614
CREATED:20250927T040614Z
LAST-MODIFIED:20250927T040614Z
UID:298026-1764324000-1764324000@bozone.com
SUMMARY:Indigenous Marketplace Bozeman
DESCRIPTION:Over 25+ invited Indigenous artists from across the country will showcase their beautiful creations\, including jewelry\, fashion\, paintings\, and more. FREE & OPEN TO THE PUBLIC! 🎉Please come support NDN owned!
URL:https://bozone.com/event/indigenous-marketplace-bozeman/
LOCATION:Emerson Ballroom\, 111 S Grand Avenue\, Bozeman\, United States
CATEGORIES:Arts & Theatre
GEO:45.6777862;-111.0408657
X-APPLE-STRUCTURED-LOCATION;VALUE=URI;X-ADDRESS=Emerson Ballroom 111 S Grand Avenue Bozeman United States;X-APPLE-RADIUS=500;X-TITLE=111 S Grand Avenue:geo:-111.0408657,45.6777862
END:VEVENT
END:VCALENDAR