BEGIN:VCALENDAR
VERSION:2.0
PRODID:-//The BoZone - ECPv5.12.0//NONSGML v1.0//EN
CALSCALE:GREGORIAN
METHOD:PUBLISH
X-WR-CALNAME:The BoZone
X-ORIGINAL-URL:https://bozone.com
X-WR-CALDESC:Events for The BoZone
BEGIN:VTIMEZONE
TZID:America/Denver
BEGIN:DAYLIGHT
TZOFFSETFROM:-0700
TZOFFSETTO:-0600
TZNAME:MDT
DTSTART:20250309T090000
END:DAYLIGHT
BEGIN:STANDARD
TZOFFSETFROM:-0600
TZOFFSETTO:-0700
TZNAME:MST
DTSTART:20251102T080000
END:STANDARD
END:VTIMEZONE
BEGIN:VEVENT
DTSTART;TZID=America/Denver:20251018T080000
DTEND;TZID=America/Denver:20251018T140000
DTSTAMP:20260422T054633
CREATED:20251015T215102Z
LAST-MODIFIED:20251015T215102Z
UID:300026-1760774400-1760796000@bozone.com
SUMMARY:Huge Rummage Sale
DESCRIPTION:BEST RUMMAGE SALE in BOZEMAN — Pilgrim Congregational 2nd Annual Rummage Sale (inside) – – Gently Used Items (no Junk!)- TONS of good clothing\, Outdoor Clothing and Gear\, Furniture\, Kitchen Appliances\, FANTASTIC Women’s Clothing and GREAT Men’s Pants and Shirts\, Coats\, Crafts\, Linens\, All Kinds of Kitchen wares\, Games/Puzzles\, Books\, Tents\, Christmas items. Kids Clothes and Toys\, and shoes (of all kinds). Friday\, Oct 17 from 12 Noon to 6 PM and Saturday\, Oct. 18th from 8 AM to 2 PM ($2 bag sale from 1 to 2 PM). VERY REASONABLE PRICES and QUALITY ITEMS FOR ALL. Hosted by “Women of Pilgrim” with proceeds donated to various local non-profits.
URL:https://bozone.com/event/huge-rummage-sale-2/
LOCATION:Pilgrim Congregational Church UCC\, 2118 S 3rd Ave\, Bozeman\, MT\, 59715\, United States
CATEGORIES:Miscellanea
GEO:45.6575072;-111.0409253
X-APPLE-STRUCTURED-LOCATION;VALUE=URI;X-ADDRESS=Pilgrim Congregational Church UCC 2118 S 3rd Ave Bozeman MT 59715 United States;X-APPLE-RADIUS=500;X-TITLE=2118 S 3rd Ave:geo:-111.0409253,45.6575072
END:VEVENT
END:VCALENDAR