BEGIN:VCALENDAR
VERSION:2.0
PRODID:-//The BoZone - ECPv5.12.0//NONSGML v1.0//EN
CALSCALE:GREGORIAN
METHOD:PUBLISH
X-WR-CALNAME:The BoZone
X-ORIGINAL-URL:https://bozone.com
X-WR-CALDESC:Events for The BoZone
BEGIN:VTIMEZONE
TZID:America/Denver
BEGIN:DAYLIGHT
TZOFFSETFROM:-0700
TZOFFSETTO:-0600
TZNAME:MDT
DTSTART:20250309T090000
END:DAYLIGHT
BEGIN:STANDARD
TZOFFSETFROM:-0600
TZOFFSETTO:-0700
TZNAME:MST
DTSTART:20251102T080000
END:STANDARD
END:VTIMEZONE
BEGIN:VEVENT
DTSTART;TZID=America/Denver:20251206T193000
DTEND;TZID=America/Denver:20251206T193000
DTSTAMP:20260424T151554
CREATED:20251008T052817Z
LAST-MODIFIED:20251008T052817Z
UID:299837-1765049400-1765049400@bozone.com
SUMMARY:Holiday Noir
DESCRIPTION:December 5 & 6\n7:30pm\nEmerson Center for the Arts & Culture\n18+ \nIn a season saturated with nostalgia\, the Emerson’s Holiday Noir is a daring disruption that invites the community to embrace a more unexpected (and adult) option. With a cast of over 60 local artists\, this holiday variety show thrives on individuality and creative expression from all types of performers. It’s part comedy\, part cabaret\, and all heart; a fully immersive experience designed to entertain and electrify in equal measure. So hitch up your reindeer\, cause it’s time to sleigh! Tickets are officially on sale and trust us- you do not want to miss this show! \nTickets from $36+ \nTo purchase tickets\, visit www.theEmerson.org\nSearch for “Holiday Noir” (in Bozeman) on Eventbrite.com\nor copy/paste this link into your browser: https://www.eventbrite.com/cc/holiday-noir-2025-4630593
URL:https://bozone.com/event/holiday-noir/2025-12-06/
LOCATION:Emerson Center for Arts and Culture\, MT\, United States
CATEGORIES:Arts & Theatre
GEO:46.8796822;-110.3625658
END:VEVENT
END:VCALENDAR