BEGIN:VCALENDAR
VERSION:2.0
PRODID:-//The BoZone - ECPv5.12.0//NONSGML v1.0//EN
CALSCALE:GREGORIAN
METHOD:PUBLISH
X-WR-CALNAME:The BoZone
X-ORIGINAL-URL:https://bozone.com
X-WR-CALDESC:Events for The BoZone
BEGIN:VTIMEZONE
TZID:America/Denver
BEGIN:DAYLIGHT
TZOFFSETFROM:-0700
TZOFFSETTO:-0600
TZNAME:MDT
DTSTART:20260308T090000
END:DAYLIGHT
BEGIN:STANDARD
TZOFFSETFROM:-0600
TZOFFSETTO:-0700
TZNAME:MST
DTSTART:20261101T080000
END:STANDARD
END:VTIMEZONE
BEGIN:VEVENT
DTSTART;TZID=America/Denver:20260130T193000
DTEND;TZID=America/Denver:20260130T193000
DTSTAMP:20260422T200307
CREATED:20251227T030432Z
LAST-MODIFIED:20251227T030432Z
UID:303727-1769801400-1769801400@bozone.com
SUMMARY:Hockey - Cats vs. Griz
DESCRIPTION:CAT GRIZ HOCKEYMSU Men’s Bobcats vs. University of Montana Grizzlies\nFriday\, January 30\n7:30 PM Puck Drop\nTickets start at $5 – tickets.gallatinice.org
URL:https://bozone.com/event/hockey-cats-vs-griz-2/
LOCATION:GCF – Gallatin County Fairgrounds – GCF\, 901 N Black\, Bozeman\, United States
CATEGORIES:Sporting Events
GEO:45.6885954;-111.0358461
X-APPLE-STRUCTURED-LOCATION;VALUE=URI;X-ADDRESS=GCF – Gallatin County Fairgrounds – GCF 901 N Black Bozeman United States;X-APPLE-RADIUS=500;X-TITLE=901 N Black:geo:-111.0358461,45.6885954
END:VEVENT
END:VCALENDAR