BEGIN:VCALENDAR
VERSION:2.0
PRODID:-//The BoZone - ECPv5.12.0//NONSGML v1.0//EN
CALSCALE:GREGORIAN
METHOD:PUBLISH
X-WR-CALNAME:The BoZone
X-ORIGINAL-URL:https://bozone.com
X-WR-CALDESC:Events for The BoZone
BEGIN:VTIMEZONE
TZID:America/Denver
BEGIN:DAYLIGHT
TZOFFSETFROM:-0700
TZOFFSETTO:-0600
TZNAME:MDT
DTSTART:20260308T090000
END:DAYLIGHT
BEGIN:STANDARD
TZOFFSETFROM:-0600
TZOFFSETTO:-0700
TZNAME:MST
DTSTART:20261101T080000
END:STANDARD
END:VTIMEZONE
BEGIN:VEVENT
DTSTART;TZID=America/Denver:20260420T180000
DTEND;TZID=America/Denver:20260420T180000
DTSTAMP:20260420T070657
CREATED:20260416T013741Z
LAST-MODIFIED:20260416T013741Z
UID:316025-1776708000-1776708000@bozone.com
SUMMARY:Her Climate\, Our Future
DESCRIPTION:Interdisciplinary women leaders across the climate movement come together to discuss how feminism has influenced climate action\, and to share the challenges they’ve faced and overcome while leading change. Speakers include:\nKarin Kirk; geologist\, science journalist\, and skier\nAnne Ready; Founder and Chair of Gallatin Valley Earth Day\nDr. Madison Stevens; Professor and environmental social scientist at MSU\nHeather White; Founder of OneGreenThing
URL:https://bozone.com/event/her-climate-our-future/
LOCATION:Reid Hall – MSU\, Montana State University\, Bozeman\, MT\, 59715\, United States
CATEGORIES:Lectures
GEO:45.6769979;-111.0429339
X-APPLE-STRUCTURED-LOCATION;VALUE=URI;X-ADDRESS=Reid Hall – MSU Montana State University Bozeman MT 59715 United States;X-APPLE-RADIUS=500;X-TITLE=Montana State University:geo:-111.0429339,45.6769979
END:VEVENT
END:VCALENDAR