BEGIN:VCALENDAR
VERSION:2.0
PRODID:-//The BoZone - ECPv5.12.0//NONSGML v1.0//EN
CALSCALE:GREGORIAN
METHOD:PUBLISH
X-WR-CALNAME:The BoZone
X-ORIGINAL-URL:https://bozone.com
X-WR-CALDESC:Events for The BoZone
BEGIN:VTIMEZONE
TZID:America/Denver
BEGIN:DAYLIGHT
TZOFFSETFROM:-0700
TZOFFSETTO:-0600
TZNAME:MDT
DTSTART:20250309T090000
END:DAYLIGHT
BEGIN:STANDARD
TZOFFSETFROM:-0600
TZOFFSETTO:-0700
TZNAME:MST
DTSTART:20251102T080000
END:STANDARD
END:VTIMEZONE
BEGIN:VEVENT
DTSTART;TZID=America/Denver:20251130T120000
DTEND;TZID=America/Denver:20251130T140000
DTSTAMP:20260425T054145
CREATED:20251128T015907Z
LAST-MODIFIED:20251128T015907Z
UID:302914-1764504000-1764511200@bozone.com
SUMMARY:Hat Bar Party
DESCRIPTION:Come join Smoke & Suede for a hat making party! Choose between a trucker hat or a western hat- we have all the accessories you can dream up!\n\n\n\nIncluded with your ticket is your first drink! Enjoy a craft beer while you design your own one-of-a-kind hat! Additional hats can be purchased and designed on the day of the event.
URL:https://bozone.com/event/hat-bar-party/
LOCATION:Outlaw Brewing\, 2876 N 27th\, Bozeman\, United States
CATEGORIES:Miscellanea
GEO:45.7085494;-111.0726172
X-APPLE-STRUCTURED-LOCATION;VALUE=URI;X-ADDRESS=Outlaw Brewing 2876 N 27th Bozeman United States;X-APPLE-RADIUS=500;X-TITLE=2876 N 27th:geo:-111.0726172,45.7085494
END:VEVENT
END:VCALENDAR