BEGIN:VCALENDAR
VERSION:2.0
PRODID:-//The BoZone - ECPv5.12.0//NONSGML v1.0//EN
CALSCALE:GREGORIAN
METHOD:PUBLISH
X-WR-CALNAME:The BoZone
X-ORIGINAL-URL:https://bozone.com
X-WR-CALDESC:Events for The BoZone
BEGIN:VTIMEZONE
TZID:America/Denver
BEGIN:DAYLIGHT
TZOFFSETFROM:-0700
TZOFFSETTO:-0600
TZNAME:MDT
DTSTART:20250309T090000
END:DAYLIGHT
BEGIN:STANDARD
TZOFFSETFROM:-0600
TZOFFSETTO:-0700
TZNAME:MST
DTSTART:20251102T080000
END:STANDARD
END:VTIMEZONE
BEGIN:VEVENT
DTSTART;TZID=America/Denver:20251210T190000
DTEND;TZID=America/Denver:20251210T190000
DTSTAMP:20260425T105112
CREATED:20251028T020032Z
LAST-MODIFIED:20251028T020456Z
UID:301025-1765393200-1765393200@bozone.com
SUMMARY:Harry Potter & The Chamber Of Secrets
DESCRIPTION:Dec\n10\n\n\n\n\nHARRY POTTER FEST: \n\n\n\n\n\n\n\nExperience the magic of the wizarding world this December at The Waypoint’s Harry Potter Fest. \nReturn to Hogwarts as we show all six films on the BIG SCREEN\, December 10-17 at 7pm. \n12/10 – Harry Potter & The Chamber Of Secrets\n12/11 – Harry Potter & The Philosophers Stone\n12/12 – Harry Potter & The Prisoner Of Azkaban\n12/13 – Harry Potter & The Goblet Of Fire\n12/14 – Harry Potter & The Order Of The Phoenix\n12/15 – Harry Potter & the Half-Blood Prince\n12/16 – Harry Potter & The Deathly Hallows: Part 1\n12/17 – Harry Potter & The Deathly Hallows: Part 2
URL:https://bozone.com/event/harry-potter-the-philosophers-stone/
LOCATION:The Big Sky Waypoint\, 50 Ousel Falls Road\, Big Sky\, MT\, 59716\, United States
CATEGORIES:Movies
GEO:45.2600817;-111.3084077
X-APPLE-STRUCTURED-LOCATION;VALUE=URI;X-ADDRESS=The Big Sky Waypoint 50 Ousel Falls Road Big Sky MT 59716 United States;X-APPLE-RADIUS=500;X-TITLE=50 Ousel Falls Road:geo:-111.3084077,45.2600817
END:VEVENT
END:VCALENDAR