BEGIN:VCALENDAR
VERSION:2.0
PRODID:-//The BoZone - ECPv5.12.0//NONSGML v1.0//EN
CALSCALE:GREGORIAN
METHOD:PUBLISH
X-WR-CALNAME:The BoZone
X-ORIGINAL-URL:https://bozone.com
X-WR-CALDESC:Events for The BoZone
BEGIN:VTIMEZONE
TZID:America/Denver
BEGIN:DAYLIGHT
TZOFFSETFROM:-0700
TZOFFSETTO:-0600
TZNAME:MDT
DTSTART:20250309T090000
END:DAYLIGHT
BEGIN:STANDARD
TZOFFSETFROM:-0600
TZOFFSETTO:-0700
TZNAME:MST
DTSTART:20251102T080000
END:STANDARD
END:VTIMEZONE
BEGIN:VEVENT
DTSTART;TZID=America/Denver:20251030T190000
DTEND;TZID=America/Denver:20251030T190000
DTSTAMP:20260420T183616
CREATED:20251008T044747Z
LAST-MODIFIED:20251008T044747Z
UID:299738-1761850800-1761850800@bozone.com
SUMMARY:Halloween party and ghost hunt
DESCRIPTION:come out in your costumes\, ghost tours\, seance and get to be a ghost hunter for the evening and Halloween party with costume contest and so much more \nOct 31st\n7pm to midnight\nall ages\n$30 a person\nbook with Elies 4065808855 or show up.
URL:https://bozone.com/event/halloween-party-and-ghost-hunt/
LOCATION:Masonic Lodge\, 14 S Tracy Ave.\, Bozeman\, United States
CATEGORIES:Miscellanea
GEO:45.6789835;-111.0369199
X-APPLE-STRUCTURED-LOCATION;VALUE=URI;X-ADDRESS=Masonic Lodge 14 S Tracy Ave. Bozeman United States;X-APPLE-RADIUS=500;X-TITLE=14 S Tracy Ave.:geo:-111.0369199,45.6789835
END:VEVENT
END:VCALENDAR