BEGIN:VCALENDAR
VERSION:2.0
PRODID:-//The BoZone - ECPv5.12.0//NONSGML v1.0//EN
CALSCALE:GREGORIAN
METHOD:PUBLISH
X-WR-CALNAME:The BoZone
X-ORIGINAL-URL:https://bozone.com
X-WR-CALDESC:Events for The BoZone
BEGIN:VTIMEZONE
TZID:America/Denver
BEGIN:DAYLIGHT
TZOFFSETFROM:-0700
TZOFFSETTO:-0600
TZNAME:MDT
DTSTART:20260308T090000
END:DAYLIGHT
BEGIN:STANDARD
TZOFFSETFROM:-0600
TZOFFSETTO:-0700
TZNAME:MST
DTSTART:20261101T080000
END:STANDARD
END:VTIMEZONE
BEGIN:VEVENT
DTSTART;TZID=America/Denver:20260313T193000
DTEND;TZID=America/Denver:20260313T193000
DTSTAMP:20260422T064438
CREATED:20260226T172235Z
LAST-MODIFIED:20260226T172235Z
UID:312458-1773430200-1773430200@bozone.com
SUMMARY:Guest Artist: Dr. Margery Whatley\, piano
DESCRIPTION:Friday\, March 13\, 2026\n\n\nGuest Artist: Dr. Margery Whatley\, piano\n 7:30pm\n Howard Hall Reynolds Recital Hall\, Howard Hall\, room 108\nTICKETS: $15 General\, $5 MSU Student\, PreK-12 FREE
URL:https://bozone.com/event/guest-artist-dr-margery-whatley-piano/
LOCATION:MSU Reynolds Recital Hall\, Bozeman\, United States
CATEGORIES:Music
GEO:45.6769979;-111.0429339
END:VEVENT
END:VCALENDAR