BEGIN:VCALENDAR
VERSION:2.0
PRODID:-//The BoZone - ECPv5.12.0//NONSGML v1.0//EN
CALSCALE:GREGORIAN
METHOD:PUBLISH
X-WR-CALNAME:The BoZone
X-ORIGINAL-URL:https://bozone.com
X-WR-CALDESC:Events for The BoZone
BEGIN:VTIMEZONE
TZID:America/Denver
BEGIN:DAYLIGHT
TZOFFSETFROM:-0700
TZOFFSETTO:-0600
TZNAME:MDT
DTSTART:20250309T090000
END:DAYLIGHT
BEGIN:STANDARD
TZOFFSETFROM:-0600
TZOFFSETTO:-0700
TZNAME:MST
DTSTART:20251102T080000
END:STANDARD
END:VTIMEZONE
BEGIN:VEVENT
DTSTART;TZID=America/Denver:20251213T090000
DTEND;TZID=America/Denver:20251213T180000
DTSTAMP:20260422T031541
CREATED:20251126T045223Z
LAST-MODIFIED:20251126T045223Z
UID:302553-1765616400-1765648800@bozone.com
SUMMARY:Get Ready for HomeOwnership Homebuyer Education Class
DESCRIPTION:Get Ready for HomeOwnership with Homeword! \nOnline via Zoom\, December 13 from 9:00 a.m. – 6:00 p.m. \nNo matter where you are on your journey to homeownership\, our nationally certified homebuyer class is for you. You will learn how to: \n• Select a lender\n• Determine what you can afford\n• Use your credit wisely\n• Distinguish between different types of loans\n• Understand home inspections and insurance\n• Identify special financing programs\n• Work with a real estate professional\n• Evaluate the pros and cons of homeownership \nOffered monthly\, this course is taught by Homeword HUD Certified Housing Counselor and Homebuyer Educator Alex Ramsing and other professionals in the community who volunteer their time by providing expert instruction on a range of topics. \nRegistration is required. Questions? Call 406-532-4663 x10 or email info@homeword.org. \nhttps://www.homeword.org/class/homebuyer-education
URL:https://bozone.com/event/get-ready-for-homeownership-homebuyer-education-class/
LOCATION:Virtual Event\, Bozeman\, MT\, 59715\, United States
CATEGORIES:Classes,Lectures,Miscellanea
GEO:46.8796822;-110.3625658
END:VEVENT
END:VCALENDAR