BEGIN:VCALENDAR
VERSION:2.0
PRODID:-//The BoZone - ECPv5.12.0//NONSGML v1.0//EN
CALSCALE:GREGORIAN
METHOD:PUBLISH
X-WR-CALNAME:The BoZone
X-ORIGINAL-URL:https://bozone.com
X-WR-CALDESC:Events for The BoZone
BEGIN:VTIMEZONE
TZID:America/Denver
BEGIN:DAYLIGHT
TZOFFSETFROM:-0700
TZOFFSETTO:-0600
TZNAME:MDT
DTSTART:20260308T090000
END:DAYLIGHT
BEGIN:STANDARD
TZOFFSETFROM:-0600
TZOFFSETTO:-0700
TZNAME:MST
DTSTART:20261101T080000
END:STANDARD
END:VTIMEZONE
BEGIN:VEVENT
DTSTART;TZID=America/Denver:20260105T200000
DTEND;TZID=America/Denver:20260105T200000
DTSTAMP:20260424T040708
CREATED:20251229T052401Z
LAST-MODIFIED:20251229T052401Z
UID:304698-1767643200-1767643200@bozone.com
SUMMARY:Gays on Blades Winter Pride Kickoff Extravaganza
DESCRIPTION:Kickoff event for Big Sky Winter Pride Week \nAll ages – Family friendly\nCostume Contest w/ Prize\nCostume Theme: Flower Power\nFree Cocoa & Snacks
URL:https://bozone.com/event/gays-on-blades-winter-pride-kickoff-extravaganza/
LOCATION:Marty Pavelich Ice Rink\,\, 120 Ousel Falls Rd\, Big Sky\, MT\, 59716\, United States
CATEGORIES:Miscellanea
END:VEVENT
END:VCALENDAR