BEGIN:VCALENDAR
VERSION:2.0
PRODID:-//The BoZone - ECPv5.12.0//NONSGML v1.0//EN
CALSCALE:GREGORIAN
METHOD:PUBLISH
X-WR-CALNAME:The BoZone
X-ORIGINAL-URL:https://bozone.com
X-WR-CALDESC:Events for The BoZone
BEGIN:VTIMEZONE
TZID:America/Denver
BEGIN:DAYLIGHT
TZOFFSETFROM:-0700
TZOFFSETTO:-0600
TZNAME:MDT
DTSTART:20260308T090000
END:DAYLIGHT
BEGIN:STANDARD
TZOFFSETFROM:-0600
TZOFFSETTO:-0700
TZNAME:MST
DTSTART:20261101T080000
END:STANDARD
END:VTIMEZONE
BEGIN:VEVENT
DTSTART;TZID=America/Denver:20260110T210000
DTEND;TZID=America/Denver:20260110T210000
DTSTAMP:20260423T150907
CREATED:20251229T014036Z
LAST-MODIFIED:20251229T014036Z
UID:304584-1768078800-1768078800@bozone.com
SUMMARY:Gary Small & The Coyote Brothers
DESCRIPTION:Gary Small & The Coyote Brothers 9pm – Close\n\nSurf Rock & Boogie Blues \nGary Small & The Coyote Brothers is a high-energy\, genre-blending trio that fuses the raw\, soulful sounds of blues with the infectious rhythms of rockabilly and the swaying\, reverberating vibes of surf rock. 
URL:https://bozone.com/event/gary-small-the-coyote-brothers-7/
LOCATION:Chico Hot Springs Saloon\, 163 Chico Rd\, Pray\, MT 59065\, Pray\, MT\, 59065\, United States
CATEGORIES:Music
GEO:45.3386251;-110.6922233
X-APPLE-STRUCTURED-LOCATION;VALUE=URI;X-ADDRESS=Chico Hot Springs Saloon 163 Chico Rd Pray MT 59065 Pray MT 59065 United States;X-APPLE-RADIUS=500;X-TITLE=163 Chico Rd\, Pray\, MT 59065:geo:-110.6922233,45.3386251
END:VEVENT
END:VCALENDAR