BEGIN:VCALENDAR
VERSION:2.0
PRODID:-//The BoZone - ECPv5.12.0//NONSGML v1.0//EN
CALSCALE:GREGORIAN
METHOD:PUBLISH
X-WR-CALNAME:The BoZone
X-ORIGINAL-URL:https://bozone.com
X-WR-CALDESC:Events for The BoZone
BEGIN:VTIMEZONE
TZID:America/Denver
BEGIN:DAYLIGHT
TZOFFSETFROM:-0700
TZOFFSETTO:-0600
TZNAME:MDT
DTSTART:20260308T090000
END:DAYLIGHT
BEGIN:STANDARD
TZOFFSETFROM:-0600
TZOFFSETTO:-0700
TZNAME:MST
DTSTART:20261101T080000
END:STANDARD
END:VTIMEZONE
BEGIN:VEVENT
DTSTART;TZID=America/Denver:20260209T160000
DTEND;TZID=America/Denver:20260209T170000
DTSTAMP:20260420T212057
CREATED:20251028T004409Z
LAST-MODIFIED:20251229T184430Z
UID:300964-1770652800-1770656400@bozone.com
SUMMARY:Gallatin Valley Food Bank’s Pop-Up Pantry
DESCRIPTION:Belgrade Mobile Distribution\n\n4:00 pm – 5:00 pm\n\n\n\nGrab free groceries from Gallatin Valley Food Bank’s Pop-Up Pantry from 4 to 5 pm. \nItems usually include fruits\, vegetables\, bread\, milk\, and frozen meat\, along with pre-packed grocery boxes that include a variety of non-perishables. Items change depending on our supply. \nPeace Lutheran Church 203 Jackrabbit Ln\, Belgrade\, MT 59714
URL:https://bozone.com/event/gallatin-valley-food-banks-pop-up-pantry-6/
LOCATION:Peace Lutheran Church – Belgrade\, 203 Jackrabbit Road\, Belgrade\, United States
CATEGORIES:Miscellanea
GEO:45.7830791;-111.1855782
X-APPLE-STRUCTURED-LOCATION;VALUE=URI;X-ADDRESS=Peace Lutheran Church – Belgrade 203 Jackrabbit Road Belgrade United States;X-APPLE-RADIUS=500;X-TITLE=203 Jackrabbit Road:geo:-111.1855782,45.7830791
END:VEVENT
END:VCALENDAR