BEGIN:VCALENDAR
VERSION:2.0
PRODID:-//The BoZone - ECPv5.12.0//NONSGML v1.0//EN
CALSCALE:GREGORIAN
METHOD:PUBLISH
X-WR-CALNAME:The BoZone
X-ORIGINAL-URL:https://bozone.com
X-WR-CALDESC:Events for The BoZone
BEGIN:VTIMEZONE
TZID:America/Denver
BEGIN:DAYLIGHT
TZOFFSETFROM:-0700
TZOFFSETTO:-0600
TZNAME:MDT
DTSTART:20250309T090000
END:DAYLIGHT
BEGIN:STANDARD
TZOFFSETFROM:-0600
TZOFFSETTO:-0700
TZNAME:MST
DTSTART:20251102T080000
END:STANDARD
END:VTIMEZONE
BEGIN:VEVENT
DTSTART;TZID=America/Denver:20250713T173000
DTEND;TZID=America/Denver:20250713T173000
DTSTAMP:20260422T224629
CREATED:20250326T194127Z
LAST-MODIFIED:20250326T194127Z
UID:285392-1752427800-1752427800@bozone.com
SUMMARY:Gallatin River Task Force's Annual Hooked on the Gallatin w/ North Fork Crossing
DESCRIPTION:Help us celebrate 25 years of working to protect the Gallatin River on July 13th at the Riverhouse in Big Sky! The night will include a silent and live auction\, food\, drinks\, and a live performance from local band North Fork Crossing. Hear updates about our work and all that we’ve accomplished in the last 25 years\, as well as what we’re working on in the future. Tickets go on sale May 13th and more information can be found on our website.
URL:https://bozone.com/event/gallatin-river-task-forces-annual-hooked-on-the-gallatin-w-north-fork-crossing/
LOCATION:The Riverhouse BBQ & Events – Big Sky\, 45130 Gallatin Road\, Big Sky\, United States
CATEGORIES:Miscellanea,Music
GEO:45.2240645;-111.2502422
X-APPLE-STRUCTURED-LOCATION;VALUE=URI;X-ADDRESS=The Riverhouse BBQ & Events – Big Sky 45130 Gallatin Road Big Sky United States;X-APPLE-RADIUS=500;X-TITLE=45130 Gallatin Road:geo:-111.2502422,45.2240645
END:VEVENT
END:VCALENDAR