BEGIN:VCALENDAR
VERSION:2.0
PRODID:-//The BoZone - ECPv5.12.0//NONSGML v1.0//EN
CALSCALE:GREGORIAN
METHOD:PUBLISH
X-WR-CALNAME:The BoZone
X-ORIGINAL-URL:https://bozone.com
X-WR-CALDESC:Events for The BoZone
BEGIN:VTIMEZONE
TZID:America/Denver
BEGIN:DAYLIGHT
TZOFFSETFROM:-0700
TZOFFSETTO:-0600
TZNAME:MDT
DTSTART:20260308T090000
END:DAYLIGHT
BEGIN:STANDARD
TZOFFSETFROM:-0600
TZOFFSETTO:-0700
TZNAME:MST
DTSTART:20261101T080000
END:STANDARD
END:VTIMEZONE
BEGIN:VEVENT
DTSTART;TZID=America/Denver:20260228T200000
DTEND;TZID=America/Denver:20260228T200000
DTSTAMP:20260421T022114
CREATED:20260226T183139Z
LAST-MODIFIED:20260226T183139Z
UID:312440-1772308800-1772308800@bozone.com
SUMMARY:Friends in Far Away Places
DESCRIPTION:Saturday\, February 28th\nFriends in Far Away Places\n\nMusic By – Aerius\, Atryp\, Lone Elder\, Iamahab\, Vanity\n\n\n\n\n\n\n\n\n\n\nSaturday\, February 28th | 8:00 pm – 11:00 pm MST
URL:https://bozone.com/event/friends-in-far-away-places/
LOCATION:The Attic – Livingston\, 110 N Main Street\, Livingston\, MT\, 59047\, United States
CATEGORIES:Music
GEO:45.6618949;-110.5601138
X-APPLE-STRUCTURED-LOCATION;VALUE=URI;X-ADDRESS=The Attic – Livingston 110 N Main Street Livingston MT 59047 United States;X-APPLE-RADIUS=500;X-TITLE=110 N Main Street:geo:-110.5601138,45.6618949
END:VEVENT
END:VCALENDAR