BEGIN:VCALENDAR
VERSION:2.0
PRODID:-//The BoZone - ECPv5.12.0//NONSGML v1.0//EN
CALSCALE:GREGORIAN
METHOD:PUBLISH
X-WR-CALNAME:The BoZone
X-ORIGINAL-URL:https://bozone.com
X-WR-CALDESC:Events for The BoZone
BEGIN:VTIMEZONE
TZID:America/Denver
BEGIN:DAYLIGHT
TZOFFSETFROM:-0700
TZOFFSETTO:-0600
TZNAME:MDT
DTSTART:20250309T090000
END:DAYLIGHT
BEGIN:STANDARD
TZOFFSETFROM:-0600
TZOFFSETTO:-0700
TZNAME:MST
DTSTART:20251102T080000
END:STANDARD
END:VTIMEZONE
BEGIN:VEVENT
DTSTART;TZID=America/Denver:20250719T183000
DTEND;TZID=America/Denver:20250719T183000
DTSTAMP:20260420T211959
CREATED:20250627T204319Z
LAST-MODIFIED:20250627T204319Z
UID:292425-1752949800-1752949800@bozone.com
SUMMARY:Free Music in the Park (Pioneer Town Park) Featuring Austin English + Band w/ Josh Langston
DESCRIPTION:Free Music in the Park (Pioneer Town Park) Featuring Austin English + Band
URL:https://bozone.com/event/free-music-in-the-park-pioneer-town-park-featuring-austin-english-band-w-josh-langston/
LOCATION:Pioneer Park – West Yellowstone\, 121 Firehole Ave\, West Yellowstone\, MT\, 59758\, United States
CATEGORIES:Music
GEO:44.6595126;-111.0998876
X-APPLE-STRUCTURED-LOCATION;VALUE=URI;X-ADDRESS=Pioneer Park – West Yellowstone 121 Firehole Ave West Yellowstone MT 59758 United States;X-APPLE-RADIUS=500;X-TITLE=121 Firehole Ave:geo:-111.0998876,44.6595126
END:VEVENT
END:VCALENDAR