BEGIN:VCALENDAR
VERSION:2.0
PRODID:-//The BoZone - ECPv5.12.0//NONSGML v1.0//EN
CALSCALE:GREGORIAN
METHOD:PUBLISH
X-WR-CALNAME:The BoZone
X-ORIGINAL-URL:https://bozone.com
X-WR-CALDESC:Events for The BoZone
BEGIN:VTIMEZONE
TZID:America/Denver
BEGIN:DAYLIGHT
TZOFFSETFROM:-0700
TZOFFSETTO:-0600
TZNAME:MDT
DTSTART:20250309T090000
END:DAYLIGHT
BEGIN:STANDARD
TZOFFSETFROM:-0600
TZOFFSETTO:-0700
TZNAME:MST
DTSTART:20251102T080000
END:STANDARD
END:VTIMEZONE
BEGIN:VEVENT
DTSTART;TZID=America/Denver:20250724T200000
DTEND;TZID=America/Denver:20250724T200000
DTSTAMP:20260422T062015
CREATED:20250723T202949Z
LAST-MODIFIED:20250723T202949Z
UID:294075-1753387200-1753387200@bozone.com
SUMMARY:FREE Movie Night: 'Showing Up'
DESCRIPTION:Join Tinworks for free\, monthly screenings of films surrounding topics and themes associated with A Kin to Clay exhibition. Popcorn available for donations and open to the public. Registration not required.\nFilm Synopsis—Showing Up \nLizzy\, a talented sculptor and arts administrator\, finds herself entangled in a complex relationship with Jo\, a rival artist and her enigmatic landlord. Their interactions are often filled with tension and conflict. One day\, Lizzy’s cat causes harm to a pigeon\, and unexpectedly\, Jo steps in to rescue the injured bird. Reluctantly\, Lizzy is tasked with caring for the creature\, and as time goes on\, a peculiar bond begins to form between them. However\, as Lizzy’s crucial artwork is destroyed in a mysterious kiln fire\, and her brother’s mental state becomes unstable\, the shadows of uncertainty loom over her upcoming exhibition. Amidst the chaos\, Lizzy’s family makes an unexpected appearance at the show\, adding further intrigue to the unfolding events. Jo also makes an appearance\, bringing along the rescued pigeon\, which unexpectedly breaks free from its confinement. In a rush to recapture the bird\, Lizzy and Jo embark on a quest\, only to discover that the pigeon may have had its own mysterious intentions all along. (Frank Liesenborgs) \nDirected by – Kelly Reichardt\nWritten by – Jonathan Raymond and Kelly Reichardt\nStarring – Michelle Williams\, Hong Chau\, Maryann Plunkett\, John Magaro\, André Benjamin\, James Le Gros\, Judd Hirsch \n2023\, 1 hour 47 minutes\, rated R
URL:https://bozone.com/event/free-movie-night-showing-up/
LOCATION:Tinworks Art\, 719 N. Ida Ave\, Bozeman\, MT\, 59715\, United States
CATEGORIES:Movies
GEO:45.6873502;-111.0277418
X-APPLE-STRUCTURED-LOCATION;VALUE=URI;X-ADDRESS=Tinworks Art 719 N. Ida Ave Bozeman MT 59715 United States;X-APPLE-RADIUS=500;X-TITLE=719 N. Ida Ave:geo:-111.0277418,45.6873502
END:VEVENT
END:VCALENDAR