BEGIN:VCALENDAR
VERSION:2.0
PRODID:-//The BoZone - ECPv5.12.0//NONSGML v1.0//EN
CALSCALE:GREGORIAN
METHOD:PUBLISH
X-WR-CALNAME:The BoZone
X-ORIGINAL-URL:https://bozone.com
X-WR-CALDESC:Events for The BoZone
BEGIN:VTIMEZONE
TZID:America/Denver
BEGIN:DAYLIGHT
TZOFFSETFROM:-0700
TZOFFSETTO:-0600
TZNAME:MDT
DTSTART:20250309T090000
END:DAYLIGHT
BEGIN:STANDARD
TZOFFSETFROM:-0600
TZOFFSETTO:-0700
TZNAME:MST
DTSTART:20251102T080000
END:STANDARD
END:VTIMEZONE
BEGIN:VEVENT
DTSTART;TZID=America/Denver:20251206T100000
DTEND;TZID=America/Denver:20251206T100000
DTSTAMP:20260422T044504
CREATED:20251130T171526Z
LAST-MODIFIED:20251130T171526Z
UID:303349-1765015200-1765015200@bozone.com
SUMMARY:FREE DAY at the Gallatin History Museum
DESCRIPTION:Holiday festivities galore! Stop by the Gallatin History Museum on Dec. 6 between 10 am – 7:30 pm for FREE admission\, seasonal decor\, a Montana NTrak model railroad\, and browse our shop for books\, cards\, jewelry\, hand-crafted goods\, and more.
URL:https://bozone.com/event/free-day-at-the-gallatin-history-museum/
LOCATION:Gallatin History Museum\, 317 W Main\, Bozeman\, United States
CATEGORIES:Miscellanea
GEO:45.679651;-111.0422344
X-APPLE-STRUCTURED-LOCATION;VALUE=URI;X-ADDRESS=Gallatin History Museum 317 W Main Bozeman United States;X-APPLE-RADIUS=500;X-TITLE=317 W Main:geo:-111.0422344,45.679651
END:VEVENT
END:VCALENDAR