BEGIN:VCALENDAR
VERSION:2.0
PRODID:-//The BoZone - ECPv5.12.0//NONSGML v1.0//EN
CALSCALE:GREGORIAN
METHOD:PUBLISH
X-WR-CALNAME:The BoZone
X-ORIGINAL-URL:https://bozone.com
X-WR-CALDESC:Events for The BoZone
BEGIN:VTIMEZONE
TZID:America/Denver
BEGIN:DAYLIGHT
TZOFFSETFROM:-0700
TZOFFSETTO:-0600
TZNAME:MDT
DTSTART:20260308T090000
END:DAYLIGHT
BEGIN:STANDARD
TZOFFSETFROM:-0600
TZOFFSETTO:-0700
TZNAME:MST
DTSTART:20261101T080000
END:STANDARD
END:VTIMEZONE
BEGIN:VEVENT
DTSTART;TZID=America/Denver:20260501T100000
DTEND;TZID=America/Denver:20260501T100000
DTSTAMP:20260420T124640
CREATED:20260412T031951Z
LAST-MODIFIED:20260412T031951Z
UID:315729-1777629600-1777629600@bozone.com
SUMMARY:Free Day at the Gallatin History Museum
DESCRIPTION:Visit the museum free of charge (donations encouraged) on May 1st as we celebrate Give Big 2026! Give Big is an annual 24-hour giving event that connects generous community members with the nonprofits that serve causes they care about. This event raises critical\, unrestricted funds for local nonprofits like ours.
URL:https://bozone.com/event/free-day-at-the-gallatin-history-museum-2/
LOCATION:Gallatin History Museum\, 317 W Main\, Bozeman\, United States
CATEGORIES:Miscellanea
GEO:45.679651;-111.0422344
X-APPLE-STRUCTURED-LOCATION;VALUE=URI;X-ADDRESS=Gallatin History Museum 317 W Main Bozeman United States;X-APPLE-RADIUS=500;X-TITLE=317 W Main:geo:-111.0422344,45.679651
END:VEVENT
END:VCALENDAR