BEGIN:VCALENDAR
VERSION:2.0
PRODID:-//The BoZone - ECPv5.12.0//NONSGML v1.0//EN
CALSCALE:GREGORIAN
METHOD:PUBLISH
X-WR-CALNAME:The BoZone
X-ORIGINAL-URL:https://bozone.com
X-WR-CALDESC:Events for The BoZone
BEGIN:VTIMEZONE
TZID:America/Denver
BEGIN:DAYLIGHT
TZOFFSETFROM:-0700
TZOFFSETTO:-0600
TZNAME:MDT
DTSTART:20250309T090000
END:DAYLIGHT
BEGIN:STANDARD
TZOFFSETFROM:-0600
TZOFFSETTO:-0700
TZNAME:MST
DTSTART:20251102T080000
END:STANDARD
END:VTIMEZONE
BEGIN:VEVENT
DTSTART;TZID=America/Denver:20251016T180000
DTEND;TZID=America/Denver:20251016T180000
DTSTAMP:20260421T160529
CREATED:20251015T175358Z
LAST-MODIFIED:20251015T175358Z
UID:299980-1760637600-1760637600@bozone.com
SUMMARY:Fly Tying Night
DESCRIPTION:Thursday\, October 16th \nWhether you’re fly-curious or a casting pro looking for some new tricks – come join local guide Jerry Weiss and the WildRye Crew \nJerry Weise is excited to come to WildRye and share his Fly Tying expertise. Enjoy a cocktail\, some good conversation\, and tie some flies with Jerry! \nWe’ll have several vices and basic materials to create flies for our local waters. Bring your own materials or share the ones we’ll have available. \n10% of all sales will benefit Casting for Recovery (https://d5gVJG04.na1.hubspotlinksstarter.com/Ctc/Y+113/d5gVJG04/VX8_yC3GqyH3W4l2Ksp7Fk8RlW9k7knf5DCjg9N8wLL5x3lcq-W6N1vHY6lZ3lgW6q_hkt6vjzv9W3-hv2y2bbNMLVFNTcD9d3lFzW5KKpTc81p4mCVxk8yH1d6ngvW8CQ65Y57hRDnW9b9HQV957qKBW4WqFRN4Z3-36W3tgN7L1DBqFCW6-DB9X140JPqW8gk7md1wDJ53N72K7qZlrk8kW4hlTVH4RFk3JW915ZT96cM0GYW22186H3xXNdRW7RnpRv3t8PTYW6V1c315RPJF7W3QJQ-94TDhJ-W1MkN6f2D1h4sW2TzzGw352pwyW4MM7CK72QPlKW2TKhnl7ZB4ntf4bmc8x04 ) .
URL:https://bozone.com/event/fly-tying-night/
LOCATION:WildRye Distilling\, 101 E Oak St Suite 1E\, Bozeman\, MT\, 59715\, United States
CATEGORIES:Miscellanea
GEO:45.6929833;-111.0340753
X-APPLE-STRUCTURED-LOCATION;VALUE=URI;X-ADDRESS=WildRye Distilling 101 E Oak St Suite 1E Bozeman MT 59715 United States;X-APPLE-RADIUS=500;X-TITLE=101 E Oak St Suite 1E:geo:-111.0340753,45.6929833
END:VEVENT
END:VCALENDAR