BEGIN:VCALENDAR
VERSION:2.0
PRODID:-//The BoZone - ECPv5.12.0//NONSGML v1.0//EN
CALSCALE:GREGORIAN
METHOD:PUBLISH
X-WR-CALNAME:The BoZone
X-ORIGINAL-URL:https://bozone.com
X-WR-CALDESC:Events for The BoZone
BEGIN:VTIMEZONE
TZID:America/Denver
BEGIN:DAYLIGHT
TZOFFSETFROM:-0700
TZOFFSETTO:-0600
TZNAME:MDT
DTSTART:20260308T090000
END:DAYLIGHT
BEGIN:STANDARD
TZOFFSETFROM:-0600
TZOFFSETTO:-0700
TZNAME:MST
DTSTART:20261101T080000
END:STANDARD
END:VTIMEZONE
BEGIN:VEVENT
DTSTART;TZID=America/Denver:20260429T180000
DTEND;TZID=America/Denver:20260429T180000
DTSTAMP:20260420T114959
CREATED:20260416T024143Z
LAST-MODIFIED:20260416T024143Z
UID:315994-1777485600-1777485600@bozone.com
SUMMARY:Film School with Tina Buckingham featuring Heaven’s Gate (1979)
DESCRIPTION:This second Film School event features an introduction by Tina Buckingham\, a Bozeman-based award-winning casting Director who has cast such films as The Patriot and The Old Way and TV shows including 1923.\nOne of her first movie experiences was on the set of Heaven’s Gate\, a sweeping Western directed by Michael Cimino that chronicles the brutal 1892 Johnson County War in Wyoming\, when wealthy cattle barons hired mercenaries to kill European settlers. It is known for its ambitious scale\, stunning cinematography\, and excellent cast featuring Kris Kristofferson\, Isabelle Huppert\, Christopher Walken\, Jeff Bridges\, and John Hurt. \nHeaven’s Gate is rated R. 3h 39 min with intermission. \nGet your ticket here: https://www.tinworksart.org/events/21Mar26-filmschool-tinabuckingham-heavensgate
URL:https://bozone.com/event/film-school-with-tina-buckingham-featuring-heavens-gate-1979/
LOCATION:The Rialto\, 10 West Main street\, Bozeman\, MT\, 59715\, United States
CATEGORIES:Miscellanea
GEO:45.6791025;-111.0375983
X-APPLE-STRUCTURED-LOCATION;VALUE=URI;X-ADDRESS=The Rialto 10 West Main street Bozeman MT 59715 United States;X-APPLE-RADIUS=500;X-TITLE=10 West Main street:geo:-111.0375983,45.6791025
END:VEVENT
END:VCALENDAR