BEGIN:VCALENDAR
VERSION:2.0
PRODID:-//The BoZone - ECPv5.12.0//NONSGML v1.0//EN
CALSCALE:GREGORIAN
METHOD:PUBLISH
X-WR-CALNAME:The BoZone
X-ORIGINAL-URL:https://bozone.com
X-WR-CALDESC:Events for The BoZone
BEGIN:VTIMEZONE
TZID:America/Denver
BEGIN:DAYLIGHT
TZOFFSETFROM:-0700
TZOFFSETTO:-0600
TZNAME:MDT
DTSTART:20250309T090000
END:DAYLIGHT
BEGIN:STANDARD
TZOFFSETFROM:-0600
TZOFFSETTO:-0700
TZNAME:MST
DTSTART:20251102T080000
END:STANDARD
END:VTIMEZONE
BEGIN:VEVENT
DTSTART;VALUE=DATE:20250704
DTEND;VALUE=DATE:20250705
DTSTAMP:20260421T110003
CREATED:20250529T233726Z
LAST-MODIFIED:20250529T233726Z
UID:290877-1751587200-1751673599@bozone.com
SUMMARY:Festival of the Arts
DESCRIPTION:
URL:https://bozone.com/event/festival-of-the-arts/2025-07-04/
LOCATION:Livingston Depot Center\, 200 W Park St\, Livingston\, United States
CATEGORIES:Arts & Theatre
GEO:45.6617636;-110.5629807
X-APPLE-STRUCTURED-LOCATION;VALUE=URI;X-ADDRESS=Livingston Depot Center 200 W Park St Livingston United States;X-APPLE-RADIUS=500;X-TITLE=200 W Park St:geo:-110.5629807,45.6617636
END:VEVENT
END:VCALENDAR