BEGIN:VCALENDAR
VERSION:2.0
PRODID:-//The BoZone - ECPv5.12.0//NONSGML v1.0//EN
CALSCALE:GREGORIAN
METHOD:PUBLISH
X-WR-CALNAME:The BoZone
X-ORIGINAL-URL:https://bozone.com
X-WR-CALDESC:Events for The BoZone
BEGIN:VTIMEZONE
TZID:America/Denver
BEGIN:DAYLIGHT
TZOFFSETFROM:-0700
TZOFFSETTO:-0600
TZNAME:MDT
DTSTART:20250309T090000
END:DAYLIGHT
BEGIN:STANDARD
TZOFFSETFROM:-0600
TZOFFSETTO:-0700
TZNAME:MST
DTSTART:20251102T080000
END:STANDARD
END:VTIMEZONE
BEGIN:VEVENT
DTSTART;TZID=America/Denver:20251122T130000
DTEND;TZID=America/Denver:20251122T130000
DTSTAMP:20260421T002826
CREATED:20251109T203151Z
LAST-MODIFIED:20251109T203151Z
UID:301836-1763816400-1763816400@bozone.com
SUMMARY:FallofFreedom Bozeman
DESCRIPTION:Celebrate artistic freedom of expression with local artists on Saturday\, November 22nd at the Bozeman Public Library from 1-2p in the community room\, and 2-3p at the front plaza. This event is inspired by a national call to action in the arts community called Fall of Freedom; artists uniting in creative defiance through artistic expression. Celebrate and champion our artistic community and the ways in which art enriches our lives\, opens our minds and hearts\, and unites us all. Free\, and more information falloffreedombozeman@gmail.com.
URL:https://bozone.com/event/falloffreedom-bozeman/
LOCATION:Bozeman Public Library\, 626 East Main Street\, Bozeman\, MT\, 59715\, United States
CATEGORIES:Arts & Theatre
GEO:45.6785823;-111.0270991
X-APPLE-STRUCTURED-LOCATION;VALUE=URI;X-ADDRESS=Bozeman Public Library 626 East Main Street Bozeman MT 59715 United States;X-APPLE-RADIUS=500;X-TITLE=626 East Main Street:geo:-111.0270991,45.6785823
END:VEVENT
END:VCALENDAR