BEGIN:VCALENDAR
VERSION:2.0
PRODID:-//The BoZone - ECPv5.12.0//NONSGML v1.0//EN
CALSCALE:GREGORIAN
METHOD:PUBLISH
X-WR-CALNAME:The BoZone
X-ORIGINAL-URL:https://bozone.com
X-WR-CALDESC:Events for The BoZone
BEGIN:VTIMEZONE
TZID:America/Denver
BEGIN:DAYLIGHT
TZOFFSETFROM:-0700
TZOFFSETTO:-0600
TZNAME:MDT
DTSTART:20250309T090000
END:DAYLIGHT
BEGIN:STANDARD
TZOFFSETFROM:-0600
TZOFFSETTO:-0700
TZNAME:MST
DTSTART:20251102T080000
END:STANDARD
END:VTIMEZONE
BEGIN:VEVENT
DTSTART;TZID=America/Denver:20251016T173000
DTEND;TZID=America/Denver:20251016T173000
DTSTAMP:20260422T232258
CREATED:20251008T033647Z
LAST-MODIFIED:20251008T033647Z
UID:299713-1760635800-1760635800@bozone.com
SUMMARY:Fabric Postcard Workshop
DESCRIPTION:October 16\, 5:30 PM at the Gallatin History Museum: Enjoy a light supper and instruction from Pat Hamlin on creating your own fabric postcard inspired by the work of Fred Willson and James Rizzi. Materials provided\, all ages welcome. Reservations required\, $35/person. Call (406)522-8122 to reserve.
URL:https://bozone.com/event/fabric-postcard-workshop/
LOCATION:Gallatin History Museum\, 317 W Main\, Bozeman\, United States
CATEGORIES:Classes,Miscellanea
GEO:45.679651;-111.0422344
X-APPLE-STRUCTURED-LOCATION;VALUE=URI;X-ADDRESS=Gallatin History Museum 317 W Main Bozeman United States;X-APPLE-RADIUS=500;X-TITLE=317 W Main:geo:-111.0422344,45.679651
END:VEVENT
END:VCALENDAR