BEGIN:VCALENDAR
VERSION:2.0
PRODID:-//The BoZone - ECPv5.12.0//NONSGML v1.0//EN
CALSCALE:GREGORIAN
METHOD:PUBLISH
X-WR-CALNAME:The BoZone
X-ORIGINAL-URL:https://bozone.com
X-WR-CALDESC:Events for The BoZone
BEGIN:VTIMEZONE
TZID:America/Denver
BEGIN:DAYLIGHT
TZOFFSETFROM:-0700
TZOFFSETTO:-0600
TZNAME:MDT
DTSTART:20250309T090000
END:DAYLIGHT
BEGIN:STANDARD
TZOFFSETFROM:-0600
TZOFFSETTO:-0700
TZNAME:MST
DTSTART:20251102T080000
END:STANDARD
END:VTIMEZONE
BEGIN:VEVENT
DTSTART;TZID=America/Denver:20250812T190000
DTEND;TZID=America/Denver:20250812T190000
DTSTAMP:20260421T214830
CREATED:20250626T213811Z
LAST-MODIFIED:20250626T213811Z
UID:292264-1755025200-1755025200@bozone.com
SUMMARY:Evening at the Preserve
DESCRIPTION:Join us August 12th\, 7-9 PM for a fun\, casual\, and unique outdoor evening at Jack Creek Preserve’s Outdoor Education Center. Hors d’oeuvres will be provided by Chef Greg Montana\, fun drinks by Skye Darden\, mixologist with Bottom’s Up\, live music by Tessy Lou Williams\, outdoor activities like axe throwing\, and conversation about conservation!
URL:https://bozone.com/event/evening-at-the-preserve/
LOCATION:Jack Creek Preserve\, 1206 Jack Creek Road\, Ennis\, MT\, 59719\, United States
CATEGORIES:Miscellanea,Music
GEO:45.3571355;-111.4909458
X-APPLE-STRUCTURED-LOCATION;VALUE=URI;X-ADDRESS=Jack Creek Preserve 1206 Jack Creek Road Ennis MT 59719 United States;X-APPLE-RADIUS=500;X-TITLE=1206 Jack Creek Road:geo:-111.4909458,45.3571355
END:VEVENT
END:VCALENDAR