BEGIN:VCALENDAR
VERSION:2.0
PRODID:-//The BoZone - ECPv5.12.0//NONSGML v1.0//EN
CALSCALE:GREGORIAN
METHOD:PUBLISH
X-WR-CALNAME:The BoZone
X-ORIGINAL-URL:https://bozone.com
X-WR-CALDESC:Events for The BoZone
BEGIN:VTIMEZONE
TZID:America/Denver
BEGIN:DAYLIGHT
TZOFFSETFROM:-0700
TZOFFSETTO:-0600
TZNAME:MDT
DTSTART:20250309T090000
END:DAYLIGHT
BEGIN:STANDARD
TZOFFSETFROM:-0600
TZOFFSETTO:-0700
TZNAME:MST
DTSTART:20251102T080000
END:STANDARD
END:VTIMEZONE
BEGIN:VEVENT
DTSTART;TZID=America/Denver:20251105T180000
DTEND;TZID=America/Denver:20251105T180000
DTSTAMP:20260423T095437
CREATED:20251030T163920Z
LAST-MODIFIED:20251030T163920Z
UID:301582-1762365600-1762365600@bozone.com
SUMMARY:Ego Nite Listening Party
DESCRIPTION:Join us on November 5th at 6PM for a very special EGO NITE to celebrate the release of Hayley William’s new album “Ego Death at a Bachelorette Party” \nFREE exclusive EGO NITE Tote\, Poster\, and Wristbands (while supplies last) \nENTER to win an exclusive mixtape CD signed by Hayley Williams! \nListen to the full album including unreleased music and grab your physical copy of EDAABP before the worldwide release on November 7th \nWe’ll start spinning the album at 6PM
URL:https://bozone.com/event/ego-nite-listening-party/
LOCATION:Cactus Records\, 2742 W Main St\, Bozeman\, MT\, 59718\, United States
CATEGORIES:Miscellanea,Music
GEO:45.6796294;-111.0382652
X-APPLE-STRUCTURED-LOCATION;VALUE=URI;X-ADDRESS=Cactus Records 2742 W Main St Bozeman MT 59718 United States;X-APPLE-RADIUS=500;X-TITLE=2742 W Main St:geo:-111.0382652,45.6796294
END:VEVENT
END:VCALENDAR