BEGIN:VCALENDAR
VERSION:2.0
PRODID:-//The BoZone - ECPv5.12.0//NONSGML v1.0//EN
CALSCALE:GREGORIAN
METHOD:PUBLISH
X-WR-CALNAME:The BoZone
X-ORIGINAL-URL:https://bozone.com
X-WR-CALDESC:Events for The BoZone
BEGIN:VTIMEZONE
TZID:America/Denver
BEGIN:DAYLIGHT
TZOFFSETFROM:-0700
TZOFFSETTO:-0600
TZNAME:MDT
DTSTART:20260308T090000
END:DAYLIGHT
BEGIN:STANDARD
TZOFFSETFROM:-0600
TZOFFSETTO:-0700
TZNAME:MST
DTSTART:20261101T080000
END:STANDARD
END:VTIMEZONE
BEGIN:VEVENT
DTSTART;TZID=America/Denver:20260108T160000
DTEND;TZID=America/Denver:20260108T180000
DTSTAMP:20260420T180857
CREATED:20260106T215724Z
LAST-MODIFIED:20260106T230510Z
UID:305334-1767888000-1767895200@bozone.com
SUMMARY:Educator Appreciation Happy Hour
DESCRIPTION:Educators and administrators are invited to a free educator appreciation happy hour hosted by Big Sky Tutoring.\nWhere: Kiln of Bozeman\nLocated at 219 North 19th Avenue\nWhen: Thursday\, January 8th from 4 to 6 PM. \nBig Sky Tutoring supports students from schools across the valley and we want to express our gratitude for the dedication educators bring to their classrooms. Thank you to all teachers and administrators for your commitment to Bozeman’s public education and the positive impact you make in the lives of our next generation. Please consider joining us in the New Year for some drinks and merriment before the chaos of final exam season. \nWe’re hosting a teacher appreciation happy hour on Thursday January 8th from 4-6pm at Kiln of Bozeman. There will be drinks\, snacks\, games\, and door prizes. We’d love to have you!
URL:https://bozone.com/event/educator-appreciation-happy-hour/
LOCATION:Kiln of Bozeman\, 219 North 19th Avenue\, Bozeman\, MT\, 59718\, United States
CATEGORIES:Miscellanea
GEO:45.6818504;-111.0627115
X-APPLE-STRUCTURED-LOCATION;VALUE=URI;X-ADDRESS=Kiln of Bozeman 219 North 19th Avenue Bozeman MT 59718 United States;X-APPLE-RADIUS=500;X-TITLE=219 North 19th Avenue:geo:-111.0627115,45.6818504
END:VEVENT
END:VCALENDAR