BEGIN:VCALENDAR
VERSION:2.0
PRODID:-//The BoZone - ECPv5.12.0//NONSGML v1.0//EN
CALSCALE:GREGORIAN
METHOD:PUBLISH
X-WR-CALNAME:The BoZone
X-ORIGINAL-URL:https://bozone.com
X-WR-CALDESC:Events for The BoZone
BEGIN:VTIMEZONE
TZID:America/Denver
BEGIN:DAYLIGHT
TZOFFSETFROM:-0700
TZOFFSETTO:-0600
TZNAME:MDT
DTSTART:20250309T090000
END:DAYLIGHT
BEGIN:STANDARD
TZOFFSETFROM:-0600
TZOFFSETTO:-0700
TZNAME:MST
DTSTART:20251102T080000
END:STANDARD
END:VTIMEZONE
BEGIN:VEVENT
DTSTART;TZID=America/Denver:20251212T190000
DTEND;TZID=America/Denver:20251212T190000
DTSTAMP:20260421T104330
CREATED:20251205T011858Z
LAST-MODIFIED:20251205T011858Z
UID:303497-1765566000-1765566000@bozone.com
SUMMARY:Drum Circle for Women + Introductory hand drumming lesson
DESCRIPTION:Come drum in the warm glow of time shared with friends new and old. Celebrate! Connect! Reflect! Make a joyful noise to welcome winter.\nFriday\, December 12th from 7-9pm at the Unitarian Universalist Fellowship of Bozeman (325 n. 25th Av.e\, Bozeman). Come early for a micro-mini drum lesson (6:30-7:00). Learn the basics of hand drumming\, brush up on existing skills and/or get tips on successful drum circle participation. No experience necessary. Bring your own drum/percussion instrument(s) or use ours. Suggested contribution is $20 (no one turned away for lack of ability to pay). More information at 406-548-4698 or www.manyhandslightwork.com.
URL:https://bozone.com/event/drum-circle-for-women-introductory-hand-drumming-lesson/
LOCATION:Unitarian Universalists Fellowship\, 325 N 25th Ave.\, Bozeman\, MT\, 59718\, United States
CATEGORIES:Miscellanea,Music
GEO:45.6833471;-111.0704432
X-APPLE-STRUCTURED-LOCATION;VALUE=URI;X-ADDRESS=Unitarian Universalists Fellowship 325 N 25th Ave. Bozeman MT 59718 United States;X-APPLE-RADIUS=500;X-TITLE=325 N 25th Ave.:geo:-111.0704432,45.6833471
END:VEVENT
END:VCALENDAR