BEGIN:VCALENDAR
VERSION:2.0
PRODID:-//The BoZone - ECPv5.12.0//NONSGML v1.0//EN
CALSCALE:GREGORIAN
METHOD:PUBLISH
X-WR-CALNAME:The BoZone
X-ORIGINAL-URL:https://bozone.com
X-WR-CALDESC:Events for The BoZone
BEGIN:VTIMEZONE
TZID:America/Denver
BEGIN:DAYLIGHT
TZOFFSETFROM:-0700
TZOFFSETTO:-0600
TZNAME:MDT
DTSTART:20250309T090000
END:DAYLIGHT
BEGIN:STANDARD
TZOFFSETFROM:-0600
TZOFFSETTO:-0700
TZNAME:MST
DTSTART:20251102T080000
END:STANDARD
END:VTIMEZONE
BEGIN:VEVENT
DTSTART;TZID=America/Denver:20250819T173000
DTEND;TZID=America/Denver:20250819T173000
DTSTAMP:20260421T040115
CREATED:20250725T141026Z
LAST-MODIFIED:20250725T141026Z
UID:294120-1755624600-1755624600@bozone.com
SUMMARY:Drop-In Pickleball
DESCRIPTION:Come play recreational pickleball out of the sun in our new gym. First time is free and we provide paddles\, balls\, and four courts to be shared fairly. \nCost: Bozeman Residents: $5 adults $3 under 14; Non Bozeman Residents: $7 adults\, $4 under 14 \nAges 7+ 5:30-6:30 and 14+ 5:30-9:00 \nEvery Tuesday\, Thursday until Aug. 28\, 4:30-9pm \nhttps://www.bozeman.net/departments/parks-and-recreation/recreation/gym-schedule
URL:https://bozone.com/event/drop-in-pickleball/2025-08-19/
LOCATION:Story Mill Community Center\, 600 Bridger Drive\, Bozeman\, 59715
CATEGORIES:Miscellanea,Sporting Events
GEO:45.700859;-111.028561
X-APPLE-STRUCTURED-LOCATION;VALUE=URI;X-ADDRESS=Story Mill Community Center 600 Bridger Drive Bozeman 59715;X-APPLE-RADIUS=500;X-TITLE=600 Bridger Drive:geo:-111.028561,45.700859
END:VEVENT
END:VCALENDAR