BEGIN:VCALENDAR
VERSION:2.0
PRODID:-//The BoZone - ECPv5.12.0//NONSGML v1.0//EN
CALSCALE:GREGORIAN
METHOD:PUBLISH
X-WR-CALNAME:The BoZone
X-ORIGINAL-URL:https://bozone.com
X-WR-CALDESC:Events for The BoZone
BEGIN:VTIMEZONE
TZID:America/Denver
BEGIN:DAYLIGHT
TZOFFSETFROM:-0700
TZOFFSETTO:-0600
TZNAME:MDT
DTSTART:20250309T090000
END:DAYLIGHT
BEGIN:STANDARD
TZOFFSETFROM:-0600
TZOFFSETTO:-0700
TZNAME:MST
DTSTART:20251102T080000
END:STANDARD
END:VTIMEZONE
BEGIN:VEVENT
DTSTART;TZID=America/Denver:20251016T193000
DTEND;TZID=America/Denver:20251016T193000
DTSTAMP:20260420T192351
CREATED:20250929T031327Z
LAST-MODIFIED:20250929T031327Z
UID:299033-1760643000-1760643000@bozone.com
SUMMARY:Downbeat Vintage Swing
DESCRIPTION:Downbeat Vintage Swing Society \nis at \nLa Brasserie – Urban Winery serving French Cuisine.\n\n\n\n\n\n\n\n\n\n\n\n\n\n\n\nLearn to style your Lindy at tonight’s free lesson with Katie and Tyler at 7:30 at La Brasserie! #lindyhop #socialdance #seeyathere
URL:https://bozone.com/event/downbeat-vintage-swing-9/
LOCATION:La Brasserie\, 31 S Willson\, Bozeman\, MT\, 59715\, United States
CATEGORIES:Miscellanea
GEO:45.6785474;-111.0390433
X-APPLE-STRUCTURED-LOCATION;VALUE=URI;X-ADDRESS=La Brasserie 31 S Willson Bozeman MT 59715 United States;X-APPLE-RADIUS=500;X-TITLE=31 S Willson:geo:-111.0390433,45.6785474
END:VEVENT
END:VCALENDAR