BEGIN:VCALENDAR
VERSION:2.0
PRODID:-//The BoZone - ECPv5.12.0//NONSGML v1.0//EN
CALSCALE:GREGORIAN
METHOD:PUBLISH
X-WR-CALNAME:The BoZone
X-ORIGINAL-URL:https://bozone.com
X-WR-CALDESC:Events for The BoZone
BEGIN:VTIMEZONE
TZID:America/Denver
BEGIN:DAYLIGHT
TZOFFSETFROM:-0700
TZOFFSETTO:-0600
TZNAME:MDT
DTSTART:20260308T090000
END:DAYLIGHT
BEGIN:STANDARD
TZOFFSETFROM:-0600
TZOFFSETTO:-0700
TZNAME:MST
DTSTART:20261101T080000
END:STANDARD
END:VTIMEZONE
BEGIN:VEVENT
DTSTART;TZID=America/Denver:20260321T200000
DTEND;TZID=America/Denver:20260321T200000
DTSTAMP:20260424T194141
CREATED:20260225T041300Z
LAST-MODIFIED:20260225T041300Z
UID:312040-1774123200-1774123200@bozone.com
SUMMARY:Doom Scroll\, Three Penny Riot\, Lone Elder
DESCRIPTION:DOOM SCROLL (CO)//THREE PENNY RIOT//LONE ELDER @ GALLATIN LABOR TEMPLE\nSat\, Mar 21 • 8:00 PM \nBozeman · Gallatin Labor Temple \n\nFrom $15.71
URL:https://bozone.com/event/doom-scroll-three-penny-riot-lone-elder/
LOCATION:Gallatin Labor Temple\, 422 E. Mendenhall\, Bozeman\, MT\, 59715\, United States
CATEGORIES:Music
GEO:45.6802113;-111.0312258
X-APPLE-STRUCTURED-LOCATION;VALUE=URI;X-ADDRESS=Gallatin Labor Temple 422 E. Mendenhall Bozeman MT 59715 United States;X-APPLE-RADIUS=500;X-TITLE=422 E. Mendenhall:geo:-111.0312258,45.6802113
END:VEVENT
END:VCALENDAR