BEGIN:VCALENDAR
VERSION:2.0
PRODID:-//The BoZone - ECPv5.12.0//NONSGML v1.0//EN
CALSCALE:GREGORIAN
METHOD:PUBLISH
X-WR-CALNAME:The BoZone
X-ORIGINAL-URL:https://bozone.com
X-WR-CALDESC:Events for The BoZone
BEGIN:VTIMEZONE
TZID:America/Denver
BEGIN:DAYLIGHT
TZOFFSETFROM:-0700
TZOFFSETTO:-0600
TZNAME:MDT
DTSTART:20260308T090000
END:DAYLIGHT
BEGIN:STANDARD
TZOFFSETFROM:-0600
TZOFFSETTO:-0700
TZNAME:MST
DTSTART:20261101T080000
END:STANDARD
END:VTIMEZONE
BEGIN:VEVENT
DTSTART;TZID=America/Denver:20260308T190000
DTEND;TZID=America/Denver:20260308T190000
DTSTAMP:20260420T101708
CREATED:20260219T134839Z
LAST-MODIFIED:20260219T134839Z
UID:310956-1772996400-1772996400@bozone.com
SUMMARY:Docs Saloon Ghost hunt
DESCRIPTION:Learn about Butte’s history and its ghosts\, Play with equipment and learn how to be a ghost hunter and have your own ghostly encounter. Also learn about the activity and so much more. 20 a person it is 21+ and free drink card with ticket purchase.where- Butte Mt Docs saloon\ntimes- 7pm to 10pm\nDates- March 8th\, 22nd\nApril- 12th\, 26th\nLink for more details- \nhttps://www.facebook.com/events/2353528445124277/
URL:https://bozone.com/event/docs-saloon-ghost-hunt/
LOCATION:Doc’s Saloon – Butte America\, 301 Mercury Street\, Butee\, MT\, 59701\, United States
CATEGORIES:Miscellanea
END:VEVENT
END:VCALENDAR