BEGIN:VCALENDAR
VERSION:2.0
PRODID:-//The BoZone - ECPv5.12.0//NONSGML v1.0//EN
CALSCALE:GREGORIAN
METHOD:PUBLISH
X-WR-CALNAME:The BoZone
X-ORIGINAL-URL:https://bozone.com
X-WR-CALDESC:Events for The BoZone
BEGIN:VTIMEZONE
TZID:America/Denver
BEGIN:DAYLIGHT
TZOFFSETFROM:-0700
TZOFFSETTO:-0600
TZNAME:MDT
DTSTART:20260308T090000
END:DAYLIGHT
BEGIN:STANDARD
TZOFFSETFROM:-0600
TZOFFSETTO:-0700
TZNAME:MST
DTSTART:20261101T080000
END:STANDARD
END:VTIMEZONE
BEGIN:VEVENT
DTSTART;TZID=America/Denver:20260109T200000
DTEND;TZID=America/Denver:20260109T200000
DTSTAMP:20260425T202517
CREATED:20251229T051838Z
LAST-MODIFIED:20251229T052456Z
UID:304696-1767988800-1767988800@bozone.com
SUMMARY:DJ Dance Party with w/ DJ Jenn+Juice\, Big Sky
DESCRIPTION:Come celebrate Big Sky Winter Pride Week with a FREE DJ dance party. \n7p-8p – Fundraiser – Wig Snatching Competition\nAll ages – Family friendly. Free to watch.\nTown Center Plaza (111 Town Center Ave\, outside Tres Tacos) \n8-10p – Dance Party\n18+\nBlindside Burger (47 Town Center Ave\, D1)\nTheme: Wigs & Queer Icons
URL:https://bozone.com/event/dj-dance-party-with-w-dj-jennjuice-big-sky/
LOCATION:Blindside Burger – Big Sky\, 47 Town Center Ave\, D1\, Big Sky\, MT\, 59716\, United States
CATEGORIES:Miscellanea,Music
END:VEVENT
END:VCALENDAR