BEGIN:VCALENDAR
VERSION:2.0
PRODID:-//The BoZone - ECPv5.12.0//NONSGML v1.0//EN
CALSCALE:GREGORIAN
METHOD:PUBLISH
X-WR-CALNAME:The BoZone
X-ORIGINAL-URL:https://bozone.com
X-WR-CALDESC:Events for The BoZone
BEGIN:VTIMEZONE
TZID:America/Denver
BEGIN:DAYLIGHT
TZOFFSETFROM:-0700
TZOFFSETTO:-0600
TZNAME:MDT
DTSTART:20250309T090000
END:DAYLIGHT
BEGIN:STANDARD
TZOFFSETFROM:-0600
TZOFFSETTO:-0700
TZNAME:MST
DTSTART:20251102T080000
END:STANDARD
END:VTIMEZONE
BEGIN:VEVENT
DTSTART;TZID=America/Denver:20251102T200000
DTEND;TZID=America/Denver:20251102T200000
DTSTAMP:20260421T011641
CREATED:20250928T192041Z
LAST-MODIFIED:20250928T192110Z
UID:298633-1762113600-1762113600@bozone.com
SUMMARY:Dallas Burrow
DESCRIPTION:Sunday\, November 2nd\nDallas Burrow\n\n\n\n\n\nSunday\, November 2nd | 8:00 pm – 11:00 pm MDT\nDoors Open: 7:00 pm\nShow Starts: 8:00 pm\n\n\n\n\nLive From The Divide627 E Peach St Bozeman\, MT 59715\nGET TICKETS
URL:https://bozone.com/event/dallas-burrow/
LOCATION:LFTD – Live From The Divide @ Empire Theater: Livingston\, 102 N 2nd Street\, Livingston\, MT\, 59049\, United States
CATEGORIES:Music
GEO:45.6859207;-111.0268428
X-APPLE-STRUCTURED-LOCATION;VALUE=URI;X-ADDRESS=LFTD – Live From The Divide @ Empire Theater: Livingston 102 N 2nd Street Livingston MT 59049 United States;X-APPLE-RADIUS=500;X-TITLE=102 N 2nd Street:geo:-111.0268428,45.6859207
END:VEVENT
END:VCALENDAR