BEGIN:VCALENDAR
VERSION:2.0
PRODID:-//The BoZone - ECPv5.12.0//NONSGML v1.0//EN
CALSCALE:GREGORIAN
METHOD:PUBLISH
X-WR-CALNAME:The BoZone
X-ORIGINAL-URL:https://bozone.com
X-WR-CALDESC:Events for The BoZone
BEGIN:VTIMEZONE
TZID:America/Denver
BEGIN:DAYLIGHT
TZOFFSETFROM:-0700
TZOFFSETTO:-0600
TZNAME:MDT
DTSTART:20250309T090000
END:DAYLIGHT
BEGIN:STANDARD
TZOFFSETFROM:-0600
TZOFFSETTO:-0700
TZNAME:MST
DTSTART:20251102T080000
END:STANDARD
END:VTIMEZONE
BEGIN:VEVENT
DTSTART;TZID=America/Denver:20251113T100000
DTEND;TZID=America/Denver:20251113T100000
DTSTAMP:20260420T174039
CREATED:20251025T014140Z
LAST-MODIFIED:20251025T014140Z
UID:300277-1763028000-1763028000@bozone.com
SUMMARY:Creative Non-Fiction Writing
DESCRIPTION:Do you have something to say? Want expert guidance and a supportive space? Enrich your life with as renowned author Amy Leach leads students by cultivating your attention\, writing\, stories and voices through wordplay and wordwork\, generating pieces through activities and assignments.Read your work aloud to a friendly and attentive audience\, and be influenced by music\, painting\, and nature. Optional: perform your work at story slams and other events. \nSix sessions\, from 10 am to noon\, Tuesdays and Thursdays November 4\, 6\, 11\, 13\, 18 and 20.
URL:https://bozone.com/event/creative-non-fiction-writing/2025-11-13/
LOCATION:Verge Theater – Emerson Suite 107\, 111 S Grande Ave Suite 107\, Bozeman\, MT\, 59715\, United States
CATEGORIES:Classes
GEO:45.7025707;-111.0453171
X-APPLE-STRUCTURED-LOCATION;VALUE=URI;X-ADDRESS=Verge Theater – Emerson Suite 107 111 S Grande Ave Suite 107 Bozeman MT 59715 United States;X-APPLE-RADIUS=500;X-TITLE=111 S Grande Ave Suite 107:geo:-111.0453171,45.7025707
END:VEVENT
END:VCALENDAR