BEGIN:VCALENDAR
VERSION:2.0
PRODID:-//The BoZone - ECPv5.12.0//NONSGML v1.0//EN
CALSCALE:GREGORIAN
METHOD:PUBLISH
X-WR-CALNAME:The BoZone
X-ORIGINAL-URL:https://bozone.com
X-WR-CALDESC:Events for The BoZone
BEGIN:VTIMEZONE
TZID:America/Denver
BEGIN:DAYLIGHT
TZOFFSETFROM:-0700
TZOFFSETTO:-0600
TZNAME:MDT
DTSTART:20250309T090000
END:DAYLIGHT
BEGIN:STANDARD
TZOFFSETFROM:-0600
TZOFFSETTO:-0700
TZNAME:MST
DTSTART:20251102T080000
END:STANDARD
END:VTIMEZONE
BEGIN:VEVENT
DTSTART;TZID=America/Denver:20251009T140000
DTEND;TZID=America/Denver:20251009T143000
DTSTAMP:20260421T212028
CREATED:20250928T213007Z
LAST-MODIFIED:20250928T213007Z
UID:298725-1760018400-1760020200@bozone.com
SUMMARY:Conservation Panel Exploring Music\, Science\, and Storytelling
DESCRIPTION:Conservation Panel Exploring Music\, Science\, and Storytelling\n\nOctober 9\, 2025\n\n 2:00pm – 2:30pm\n Museum of the Rockies Hager Auditorium\nExploring Music\, Science\, and Storytelling
URL:https://bozone.com/event/conservation-panel-exploring-music-science-and-storytelling/
LOCATION:Museum of the Rockies\, 600 W Kagy Blvd\, Bozeman\, MT\, 59718\, United States
CATEGORIES:Music
GEO:46.8796822;-110.3625658
X-APPLE-STRUCTURED-LOCATION;VALUE=URI;X-ADDRESS=Museum of the Rockies 600 W Kagy Blvd Bozeman MT 59718 United States;X-APPLE-RADIUS=500;X-TITLE=600 W Kagy Blvd:geo:-110.3625658,46.8796822
END:VEVENT
END:VCALENDAR