BEGIN:VCALENDAR
VERSION:2.0
PRODID:-//The BoZone - ECPv5.12.0//NONSGML v1.0//EN
CALSCALE:GREGORIAN
METHOD:PUBLISH
X-WR-CALNAME:The BoZone
X-ORIGINAL-URL:https://bozone.com
X-WR-CALDESC:Events for The BoZone
BEGIN:VTIMEZONE
TZID:America/Denver
BEGIN:DAYLIGHT
TZOFFSETFROM:-0700
TZOFFSETTO:-0600
TZNAME:MDT
DTSTART:20260308T090000
END:DAYLIGHT
BEGIN:STANDARD
TZOFFSETFROM:-0600
TZOFFSETTO:-0700
TZNAME:MST
DTSTART:20261101T080000
END:STANDARD
END:VTIMEZONE
BEGIN:VEVENT
DTSTART;TZID=America/Denver:20260110T190000
DTEND;TZID=America/Denver:20260110T190000
DTSTAMP:20260423T113115
CREATED:20251227T013251Z
LAST-MODIFIED:20251227T013251Z
UID:303668-1768071600-1768071600@bozone.com
SUMMARY:Community Panel Discussion Led by Ragtime Stage Director Francesca Zambello
DESCRIPTION:Community Panel Discussion Led by Ragtime Stage Director Francesca Zambello\nGather for an engaging conversation inspired by Opera Montana’s Ragtime. Our panel of community leaders will reflect on the musical’s exploration of identity\, belonging\, and social change\, as well as how each organization approaches those themes in their communities. \nJoin us on January 10 at 7:00pm at the Yellowstone Theological Institute\, 83 Rowland Rd\, Bozeman\, MT 59718 \nPanelists’ Organizations: Congregation Beth Shalom\, Black Student Union at MSU\, & Bienvenidos a Gallatin Valley \nRSVP: https://operamontana.easy-ware-ticketing.com/eventsByMovie/A000000238?cpm=bozone
URL:https://bozone.com/event/community-panel-discussion-led-by-ragtime-stage-director-francesca-zambello/
LOCATION:Yellowstone Theological Institute\, 83 Rowland Rd\, Bozeman\, MT\, 59715\, United States
CATEGORIES:Lectures
GEO:45.6586728;-111.0553279
X-APPLE-STRUCTURED-LOCATION;VALUE=URI;X-ADDRESS=Yellowstone Theological Institute 83 Rowland Rd Bozeman MT 59715 United States;X-APPLE-RADIUS=500;X-TITLE=83 Rowland Rd:geo:-111.0553279,45.6586728
END:VEVENT
END:VCALENDAR