BEGIN:VCALENDAR
VERSION:2.0
PRODID:-//The BoZone - ECPv5.12.0//NONSGML v1.0//EN
CALSCALE:GREGORIAN
METHOD:PUBLISH
X-WR-CALNAME:The BoZone
X-ORIGINAL-URL:https://bozone.com
X-WR-CALDESC:Events for The BoZone
BEGIN:VTIMEZONE
TZID:America/Denver
BEGIN:DAYLIGHT
TZOFFSETFROM:-0700
TZOFFSETTO:-0600
TZNAME:MDT
DTSTART:20250309T090000
END:DAYLIGHT
BEGIN:STANDARD
TZOFFSETFROM:-0600
TZOFFSETTO:-0700
TZNAME:MST
DTSTART:20251102T080000
END:STANDARD
END:VTIMEZONE
BEGIN:VEVENT
DTSTART;TZID=America/Denver:20251117T181500
DTEND;TZID=America/Denver:20251117T181500
DTSTAMP:20260422T014039
CREATED:20251111T174915Z
LAST-MODIFIED:20251111T174915Z
UID:301989-1763403300-1763403300@bozone.com
SUMMARY:Community Forum: What Losing Nutrient Standards Means for Our Rivers
DESCRIPTION:Join us for a community briefing on Montana’s rollback of numeric nutrient standards\, what it means for clean water\, river health\, and pollution permitting\, and what you can do to take action.\nGuy Alsentzer\, Executive Director of Upper Missouri Waterkeeper\, and Dr. William Kleindl\, Ecologist and Professor at Montana State University\, will be presenting on the legal and scientific implications of the repeal\, and will provide actionable steps for community members to take to stand up for clean water in Montana. \nCan’t make the event but want to stand up for clean water? Sign our petition today calling on Montana Dept. of Environmental Quality to stop issuing pollution permits without a plan for controlling nutrient pollution: https://www.uppermissouriwaterkeeper.org/take-action-sign-the-petition/ \nNovember 17th 6:15-7:00 Bozeman Public Library Community Room
URL:https://bozone.com/event/community-forum-what-losing-nutrient-standards-means-for-our-rivers/
LOCATION:Bozeman Public Library\, 626 East Main Street\, Bozeman\, MT\, 59715\, United States
CATEGORIES:Miscellanea
GEO:45.6785823;-111.0270991
X-APPLE-STRUCTURED-LOCATION;VALUE=URI;X-ADDRESS=Bozeman Public Library 626 East Main Street Bozeman MT 59715 United States;X-APPLE-RADIUS=500;X-TITLE=626 East Main Street:geo:-111.0270991,45.6785823
END:VEVENT
END:VCALENDAR